Workbook

Sheet Program
B6: PRILOGA 1: SKLOP A
A14: PROGRAM IZVAJANJA KONCESIJE
A21: VSEBINA
A23: PODATKI O OBJEKTIH
A24: REFERENČNE KOLIČINE
A25: CENE ENERGENTOV
A26: STANDARD UDOBJA
A27: SPLOŠNE ZAHTEVE KONCENDENTA GLEDE IZVEDBE UKREPOV
A28: ZAHTEVE KONCEDENTA GLEDE UPRAVLJANJA IN VZDRŽEVANJA
A29: OBRAZCI ZA VNOS UKREPOV IN PRIHRANKOV (PO OBJEKTIH IN SKUPNO)
A30: VZORCI OBRAČUNOV

Sheet Podatki o objektih
A2: SEZNAM OBJEKTOV
A5: Št. | B5: ID | C5: Naziv objekta | D5: Naslov | E5: Tip objekta | F5: Kontaktne osebe
A6: 1 | B6: OB01 | C6: =INDEX('Referenčne količine'!$C$4:$C$6,MATCH(Tabela7[[#This Row],[ID]],'Referenčne količine'!$B$4:$B$6,0)) -> Strojna, prometna in lesarska šola | D6: =INDEX('Referenčne količine'!$D$4:$D$6,MATCH(Tabela7[[#This Row],[ID]],'Referenčne količine'!$B$4:$B$6,0)) -> Erjavčeva ulica 4a, 5000 Nova Gorica | E6: =INDEX('Referenčne količine'!$E$4:$E$6,MATCH(Tabela7[[#This Row],[ID]],'Referenčne količine'!$B$4:$B$6,0)) -> Šola
A7: 2 | B7: OB02 | C7: =INDEX('Referenčne količine'!$C$4:$C$6,MATCH(Tabela7[[#This Row],[ID]],'Referenčne količine'!$B$4:$B$6,0)) -> Ekonomska šola | D7: =INDEX('Referenčne količine'!$D$4:$D$6,MATCH(Tabela7[[#This Row],[ID]],'Referenčne količine'!$B$4:$B$6,0)) -> Erjavčeva ulica 8, 5000 Nova Gorica | E7: =INDEX('Referenčne količine'!$E$4:$E$6,MATCH(Tabela7[[#This Row],[ID]],'Referenčne količine'!$B$4:$B$6,0)) -> Šola
A8: 3 | B8: OB03 | C8: =INDEX('Referenčne količine'!$C$4:$C$6,MATCH(Tabela7[[#This Row],[ID]],'Referenčne količine'!$B$4:$B$6,0)) -> Elektrotehniška in računalniška šola | D8: =INDEX('Referenčne količine'!$D$4:$D$6,MATCH(Tabela7[[#This Row],[ID]],'Referenčne količine'!$B$4:$B$6,0)) -> Cankarjeva ulica 10, 5000 Nova Gorica | E8: =INDEX('Referenčne količine'!$E$4:$E$6,MATCH(Tabela7[[#This Row],[ID]],'Referenčne količine'!$B$4:$B$6,0)) -> Šola

Sheet Referenčne količine
A1: OSNOVNI PODATKI O OBJEKTU | P1: TOPLOTA | AZ1: ELEKTRIČNA ENERGIJA ZA DELOVANJE OBJEKTA | BJ1: STROŠKI SKUPAJ
P2: ENERGENT 1 | W2: ENERGENT 2 | AD2: ENERGENT 3
A3: Št. | B3: ID | C3: ime objekta | D3: naslov | E3: namembnost objekta | F3: celotna kvadratura [m2] | G3: ogrevana kvadratura [m2] | H3: hlajena kvadratura [m2] | I3: število etaž | J3: višina etaže [m] | K3: prostornina [m3] | L3: leto izgradnje | M3: Predlagano referenčno obdobje | N3: specifična raba toplote [kWh/m2] | O3: specifična raba elektrike [kWh/m2] | P3: ENERGENT 1 vrsta energenta | Q3: raba energenta [litri, kWh] | R3: enota | S3: kurilnost [kWh / enoto] | T3: strošek energenta [€ brez DDV] | U3: dovedena energija [kWh] | V3: Izkoristek ogrevalnega sistema 1 [%] | W3: ENERGENT 2 vrsta energenta | X3: raba energenta [litri, kWh] | Y3: enota | Z3: kurilnost [kWh / enoto] | AA3: strošek energenta [€ brez DDV] | AB3: dovedena energija [kWh] | AC3: Izkoristek ogrevalnega sistema 2 [%] | AD3: ENERGENT 3 vrsta energenta | AE3: raba energenta [litri, kWh] | AF3: enota | AG3: kurilnost [kWh / enoto] | AH3: strošek energenta [€ brez DDV] | AI3: dovedena energija [kWh] | AJ3: Izkoristek ogrevalnega sistema 3 [%] | AK3: skupaj dovedena energija [kWh] | AL3: skupaj strošek toplote [€ brez DDV] | AM3: raba toplote brez prilagoditev (koristna en.) [kWh] | AN3: cena toplote brez DDV [€/kWh] | AO3: raba toplote za ogrevanje [kWh] | AP3: raba toplote za STV [kWh] | AQ3: raba toplote za mehansko prezračevanje [kWh] | AR3: prilagoditev rabe toplote skupaj (npr. dvig udobja) [kWh] | AS3: dovedena energija s prilagoditvami [kWh] | AT3: raba toplote s prilagoditvami [kWh] (koristna en.) | AU3: cena toplote s prilagoditvami [€/kWh] | AV3: prilagojen letni strošek toplote [€ brez DDV] | AW3: prilagojena raba toplote za ogrevanje [kWh] | AX3: prilagojena raba toplote za STV [kWh] | AY3: prilagojena raba toplote za mehansko prezračevanje [kWh] | AZ3: raba električne energije [kWh] | BA3: strošek električne energije [€ brez DDV] | BB3: referenčna cena električne energije [€/kWh] | BC3: raba električne energije za razsvetljavo [kWh] | BD3: raba električne energije za ostalo [kWh] | BE3: prilagoditev rabe električne energije [kWh] | BF3: prilagojena raba električne energije [kWh] | BG3: prilagojen letni strošek električne energije [€ brez DDV] | BH3: prilagojena raba električne energije za razsvetljavo [kWh] | BI3: prilagojena raba električne energije za ostalo [kWh] | BJ3: SKUPAJ STROŠEK ENERGENTOV [€ brez DDV] | BK3: STROŠEK TEKOČEGA IN INVESTICIJSKEGA VZDRŽEVANJA ENERGETSKIH NAPRAV [€ brez DDV] | BL3: SKUPAJ VSI STROŠKI [€ brez DDV] | BM3: Opombe
A4: 1 | B4: OB01 | C4: Strojna, prometna in lesarska šola | D4: Erjavčeva ulica 4a, 5000 Nova Gorica | E4: Šola | G4: 7420.62 | M4: 2016-2018 | N4: =AS4/G4 -> 86.545464 | O4: =BF4/G4 -> 35.301363 | P4: DO | Q4: 504221 | R4: kWh | S4: 1 | T4: 140818.84 | U4: 504221 | V4: 1 | X4: 0 | Z4: 0 | AA4: 0 | AB4: 0 | AC4: 0 | AE4: 0 | AG4: 0 | AH4: 0 | AI4: 0 | AJ4: 0 | AK4: =U4+AB4+AI4 -> 504221 | AL4: =ROUND(T4+AA4+AH4,2) -> 140818.84 | AM4: =U4*V4+AB4*AC4+AI4*AJ4 -> 504221 | AN4: =AL4/AM4 -> 0.27928 | AO4: 425383.32 | AP4: 40337.68 | AQ4: 38500 | AR4: 138000 | AS4: =AT4*AK4/AM4 -> 642221 | AT4: =AM4+AR4 -> 642221 | AU4: =AN4 -> 0.27928 | AV4: =AL4+AR4*AU4 -> 179359.48 | AW4: 425383.32 | AX4: 40337.68 | AY4: 176500 | AZ4: 201458 | BA4: 30218.7 | BB4: =BA4/AZ4 -> 0.15 | BC4: 113040 | BD4: 88418 | BE4: 60500 | BF4: =AZ4+BE4 -> 261958 | BG4: =BF4*BB4 -> 39293.7 | BH4: 113040 | BI4: 148918 | BJ4: =AV4+BG4 -> 218653.18 | BK4: 16647 | BL4: =BJ4+BK4 -> 235300.18
A5: 2 | B5: OB02 | C5: Ekonomska šola | D5: Erjavčeva ulica 8, 5000 Nova Gorica | E5: Šola | G5: 5267 | M5: 2017-2019 | N5: =AS5/G5 -> 67.429846 | O5: =BF5/G5 -> 18.638314 | P5: DO | Q5: 355153 | R5: kWh | S5: 1 | T5: 99187.13 | U5: 355153 | V5: 1 | W5: 0 | X5: 0 | Z5: 0 | AA5: 0 | AB5: 0 | AC5: 1 | AD5: 0 | AE5: 0 | AG5: 0 | AH5: 0 | AI5: 0 | AJ5: 1 | AK5: =U5+AB5+AI5 -> 355153 | AL5: =ROUND(T5+AA5+AH5,2) -> 99187.13 | AM5: =U5*V5+AB5*AC5+AI5*AJ5 -> 355153 | AN5: =AL5/AM5 -> 0.27928 | AO5: 319637.7 | AP5: 35515.3 | AQ5: 0 | AR5: 0 | AS5: =AT5*AK5/AM5 -> 355153 | AT5: =AM5+AR5 -> 355153 | AU5: =AN5 -> 0.27928 | AV5: =AL5+AR5*AU5 -> 99187.13 | AW5: 319637.7 | AX5: 35515.3 | AY5: 0 | AZ5: 98168 | BA5: 14725.2 | BB5: =BA5/AZ5 -> 0.15 | BC5: 77664 | BD5: 20504 | BE5: 0 | BF5: =AZ5+BE5 -> 98168 | BG5: =BF5*BB5 -> 14725.2 | BH5: 77664 | BI5: 20504 | BJ5: =AV5+BG5 -> 113912.33 | BK5: 10874 | BL5: =BJ5+BK5 -> 124786.33
A6: 3 | B6: OB03 | C6: Elektrotehniška in računalniška šola | D6: Cankarjeva ulica 10, 5000 Nova Gorica | E6: Šola | G6: 2173.75 | M6: 2017-2020 | N6: =AS6/G6 -> 66.706383 | O6: =BF6/G6 -> 25.99655 | P6: DO | Q6: 145003 | R6: kWh | S6: 1 | T6: 40496.438 | U6: 145003 | V6: 1 | X6: 0 | Z6: 0 | AA6: 0 | AB6: 0 | AC6: 0 | AE6: 0 | AG6: 0 | AH6: 0 | AI6: 0 | AJ6: 0 | AK6: =U6+AB6+AI6 -> 145003 | AL6: =ROUND(T6+AA6+AH6,2) -> 40496.44 | AM6: =U6*V6+AB6*AC6+AI6*AJ6 -> 145003 | AN6: =AL6/AM6 -> 0.27928001 | AO6: 145003 | AP6: 0 | AQ6: 0 | AR6: 0 | AS6: =AT6*AK6/AM6 -> 145003 | AT6: =AM6+AR6 -> 145003 | AU6: =AN6 -> 0.27928001 | AV6: =AL6+AR6*AU6 -> 40496.44 | AW6: 145003 | AX6: 0 | AY6: 0 | AZ6: 56510 | BA6: 8476.5 | BB6: =BA6/AZ6 -> 0.15 | BC6: 41760 | BD6: 14750 | BE6: 0 | BF6: =AZ6+BE6 -> 56510 | BG6: =BF6*BB6 -> 8476.5 | BH6: 41760 | BI6: 14750 | BJ6: =AV6+BG6 -> 48972.94 | BK6: 4207 | BL6: =BJ6+BK6 -> 53179.94
B9: OPOMBA: | C9: Ponudnik vnese v stolpce "prilagoditev rabe" predvidene spremembe referenčnih vrednosti, z ustreznim pojasnilom

Sheet Cene energentov
B1: CENE ENERGENTOV OB MENJAVI VHODNEGA ENERGENTA
B3: VHODNI ENERGENTI: | G3: Referenčna vrednost ob menjavi energenta
B4: Oznaka | C4: Vhodni energent | D4: Merska enota | E4: Kurilna vrednost | G4: Povprečna cena dovedene energije (EUR brez DDV)
B5: ELKO | C5: Ekstra lahko kurilno olje (ELKO) | D5: l (liter) | E5: 10.06 | F5: kWh/l | H5: €/kWh
B6: KO | C6: Kurilno olje - srednje | D6: Kg | E6: 11.5 | F6: kWh/kg
B7: DO | C7: Daljinsko ogrevanje | D7: kWh | E7: 1 | F7: kWh/kWh | G7: 0.279 | H7: €/kWh
B8: ZP | C8: Daljinsko ogrevanje | D8: kWh | E8: 7.17 | F8: kWh/kWh | G8: 0.279
B9: ZP | C9: Daljinsko ogrevanje | D9: kWh | E9: 31.05 | F9: kWh/kWh | G9: 0.279 | H9: €/kWh
B10: ZP | C10: Daljinsko ogrevanje | D10: kWh | E10: 4.9 | F10: kWh/kWh | G10: 0.279 | H10: €/kWh
B11: DO | C11: Daljinsko ogrevanje | D11: kWh | E11: 1 | F11: kWh/kWh | G11: 0.279 | H11: €/kWh
B12: DO | C12: Daljinsko ogrevanje | D12: kWh | E12: 1 | F12: kWh/kWh | G12: 0.279 | H12: €/kWh
B13: EE | C13: Električna energija | D13: kWh | E13: 0 | F13: kWh/kWh | G13: 0.15 | H13: €/kWh
B14: EE | C14: Električna energija (za TČ) | D14: kWh | E14: 1 | F14: kWh/kWh | G14: 0.15 | H14: €/kWh
B15: ELKO | C15: Ekstra lahko kurilno olje (ELKO) | D15: l (liter) | E15: 10.08 | F15: kWh/l | H15: €/kWh
B20: Opomba: Ponudnik vpiše predvidene cene energentov po sanaciji v primeru menjave energentov na objektu. V sklopu predmetne ponudbe ne nudi dobave energentov.
C21: V sklopu predmetne ponudbe ponudnik ne nudi dobave energentov.

Sheet STANDARD UDOBJA
A1: STANDARD UDOBJA V OBJEKTIH
A3: Minimalno ugodje v prostorih v času izvajanja ogrevanja (pozimi):
A5: Vrsta stavbe/prostora: | B5: Obremenjenost prostora (oseb/m2) | C5: Notranja temp. zraka (°C) | D5: Toleranca* (°C) | E5: Relativna vlažnost zraka (%) | F5: Max. koncentracija CO2 (ppm) | G5: Količina svežega zraka v primeru mehanskega prezračevanja (m3/h m2) | H5: Povprečna vzdrževana osvetljenost (lux) EN 12464-1 | I5: Opombe
A6: Vrtec - Igralnica II. starostno obdobje | B6: 0.5 | C6: 21 | D6: ± 2 | E6: 40 - 60 | F6: 1667 | G6: 10.1 | H6: 300
A7: Vrtec - Igralnica I. starostno obdobje | B7: 0.5 | C7: 23 | D7: =D6 -> ± 2 | E7: 40 - 60 | F7: 1667 | G7: 10.1 | H7: 300
A8: Vrtec - Športna igralnica | B8: 0.5 | C8: 20 | D8: =D7 -> ± 2 | E8: 40 - 60 | F8: 1667 | H8: 300
A9: Vrtec - Umivalnica | C9: 21 | D9: =D8 -> ± 2 | E9: 40 - 60 | F9: 1667 | H9: 300
A10: Osnovna šola - Učilnica | B10: 0.5 | C10: 21 | D10: =D9 -> ± 2 | E10: 40 - 60 | F10: 1667 | G10: 8.6 | H10: 300
A11: Telovadnica, športna dvorana | B11: 0.5 | C11: 19 | D11: =D10 -> ± 2 | E11: 40 - 60 | F11: 1667 | H11: 300
A12: Garderobe šola, vrtec, šp. Dvorana | B12: 1 | C12: 21 | D12: =D11 -> ± 2 | E12: 40 - 60 | F12: 1667 | H12: 300
A13: Kopalnica | B13: 0.5 | C13: 24 | D13: =D12 -> ± 2 | E13: 40 - 60 | F13: 1667 | H13: 200
A14: Sanitarije | C14: 18 | D14: =D13 -> ± 2 | E14: 40 - 60 | F14: 1667 | H14: 200
A15: Pisarne, upravni prostori | B15: 0.1 | C15: 21 | D15: =D14 -> ± 2 | E15: 40 - 60 | F15: 1667 | G15: 2.5 | H15: 500
A16: Avla, avditorij, skupni prostori, hodniki, jedilnica | B16: 1 | C16: 20 | D16: =D15 -> ± 2 | E16: 40 - 60 | F16: 1667 | G16: po projektu | H16: 200
A17: Bazenski prostor | B17: 0.5 | C17: 25 - 28 | D17: =D16 -> ± 2 | E17: 35 - 60 | F17: 1667 | G17: po projektu | H17: 300 | I17: +2°C nad temp. bazenske vode
A18: Bazen - garderobe | C18: 24 | D18: =D17 -> ± 2 | E18: 40 - 60 | F18: 1667 | G18: po projektu | H18: 300
A19: Servisni prostori | B19: 0.1 | C19: 18 | D19: =D18 -> ± 2 | E19: 40 - 60 | F19: 1667 | H19: 150
A21: Minimalna temperatura sanitarne tople vode:
A22: Lokacija meritve | B22: Temperatura STV (°C)
A23: Na iztočnem mestu (pipa) | B23: 50 | D23: *v vrtcih skladno s pravilnikom
A25: Vrednosti so smiselno povzete po pravilniku SIST EN 12831, Pravilnik o prezračevanju stavb (UL RS 42/2002) oziroma na podlagi izkušenj.
A26: Pravilnik o pitni vodi in Priporočila IVZ – NIJZ (Nacionalni inštitut za javno zdravje)
A27: Pravilnik o normativih in minimalnih tehničnih pogojih za prostor in opremo vrtca (UR RS 73/00, 75/05, 33/08, 126/08, 47/10, 47/13,74/16)
A28: Osvetljenost notranjih prostorov - standard SIST EN 12464-1:2011.
A29: *OPOMBA: Toleranca v - (navzdol) je dopustna samo v določenih delih dneva (jutranji zagoni, prezračevanje tekom dneva..) in ne sme presegati 15% obratovalnega časa dnevno.
A31: Meje odgovornosti koncesionarja za doseganje standardov udobja:
A32: Koncesionar je odgovoren za doseganje standardov udobja zgolj v obsegu, ki ga tehnično omogočajo ukrepi, ki jih je v okviru izvajanja koncesije izvedel koncesionar.
A33: Koncesionar ni dolžan zagotavljati doseganja predpisanega standarda osvetlitve, če s svojimi ukrepi ne posega v obstoječe sisteme notranje razsvetljave.
A34: Koncesionar ni dolžan zagotavljati doseganje predpisanega standarda prezračevanja (CO2, izmenjeva svežega zraka), če objekti nimajo vgrajenih sistemov prisilnih prezračevanj oz. le-ti niso predmet ukrepov energetske sanacije objektov koncedenta.
A35: Koncesionar ni odgovoren za nedoseganje predpisanih standardov udobja, v kolikor so odstopanja posledica nevestnega ravnanja uporabnikov objekta. Koncesionar je dolžan predhodno podati opozorilo uporabnikom objekta.
A36: Koncesionar ni odgovoren za nedoseganje predpisanih standardov udobja, v kolikor so odstopanja posledica nezanesljive, nekvalitetne in nepravočasne dobave primarnih energentov s strani koncedenta oz. uporabnikov (npr. dobava biomase, ki ne dosega predpisanih standardov kvalitete določene s projekti Obratovanja in vzdrževanja).
A37: Koncesionar ni odgovoren za nedoseganje predpisanih standardov udobja, v kolikor so odstopanja posledica neizvajanja nujno potrebnih vzdrževalnih del na instalacijah, ki niso predmet vzdrževanja koncesionarja in jih je skladno z določenimi mejami projekta tudi nadalje dolžan izvajati koncedent (npr. menjava okvarjenih grelnih teles, radiatorjev, zamenjava dotrajane interne instalacije).
... A39: Dokazno breme obstoja ekskulpacijskih razlogov za zgoraj navedene meje odgovornosti koncesionarja je na strani koncesionarja.

Sheet UKREPI - splošno
A1: I. | B1: UKREPI ZAHTEVANI S STRANI KONCEDENTA ZA ZAGOTAVLJANJE PRIHRANKA
B3: Splošne zahteve:
B5: 1. Vsi pripravljalni ukrepi morajo biti izvedeni skladno z veljavnimi predpisi in standardi.
B7: 2. Koncesionar mora ukrepe v pogodbeni dobi izvajati in vzdrževati skladno z veljavnimi predpisi in standardi.
B9: 3. S svojimi ukrepi koncesionar ne sme znižati standarda (temperature v prostorih, prezračevanje), ki je predpisan v standardu SIST EN 12831 in Smernicami VDI 2067. Če ti pogoji pred ukrepi niso bili doseženi, je potrebno to upoštevati pri referenčnih količinah.
B11: 4. S svojimi ukrepi koncesionar ne sme znižati standarda (osvetlitve), ki je predpisan v standardu SIST EN 12464-1:2011 Če ti pogoji pred izvedbo ukrepov niso bili doseženi, je potrebno to upoštevati pri referenčnih količinah.
B13: 5. Ker standard v prostorih ni natančno popisan, mora koncesionar po podpisu pogodbe v prvi ogrevalni sezoni v prostorih popisati standarde (temperature, prezračevanja, osvetlitve).
B15: 6. Koncesionar po podpisu pogodbe do začetka izvajanja glavne storitve zbrati in preveriti podatke iz razširjenih energetskih pregledov, ki so potrebni za ugotavljanje morebitnih sprememb uporabe objektov (število uporabnikov, urniki, porabniki energije).
B17: 7. Kjer so referenčne vrednosti rabe energije podane v energiji porabljenega goriva in še ni uvedenih meritev, mora koncesionar do dogovorjenega roka po pogodbi (pripravljalna storitev) vgraditi merilne naprave.
B19: 8. Koncesionar mora do začetka izvajanja glavne storitve vzpostaviti sistem energetskega upravljanja za vse objekte iz seznama stavb naročnika po zahtevah določenih v zavihku Energetsko upravljanje.
B21: 9. Po dokončanju pripravljalne storitve mora koncesionar koncedentu predati naslednjo dokumentacijo:
B22: - Poročila o morebitnih meritvah
B23: - Projekte izvedenih del in projekte za obratovanje in vzdrževanje.
... B29: 12. Koncedent ima pravico kadarkoli izvajati nadzor nad pripravljalnimi deli koncesionarja.

Sheet EN. UPRAVLJANJE
A1: III. | B1: ZAHTEVE NAROČNIKA GLEDE SISTEMA ENERGETSKEGA UPRAVLJANJA

Sheet UKREPI (PO OBJEKTIH)
A2: II. PREDVIDENI UKREPI PO POSAMEZNIH OBJEKTIH
A5: Ukrepi so razvidni iz Priloge Opis ukrepov in ocena investicij

Sheet OB01
A1: Pogodbeno zagotavljanje prihrankov
A3: Osnovni podatki o objektu
A4: Objekt: | B4: =INDEX('Referenčne količine'!$C$4:$C$6,MATCH('OB01'!B6,'Referenčne količine'!$B$4:$B$6,0)) -> Strojna, prometna in lesarska šola
A5: Naslov: | B5: =INDEX('Referenčne količine'!$D$4:$D$6,MATCH('OB01'!B6,'Referenčne količine'!$B$4:$B$6,0)) -> Erjavčeva ulica 4a, 5000 Nova Gorica
A6: Oznaka | B6: OB01
A7: Neto površina m2: | B7: =INDEX('Referenčne količine'!$G$4:$G$6,MATCH('OB01'!B6,'Referenčne količine'!$B$4:$B$6,0)) -> 7420.62
A8: Tip energenta 1: | B8: =INDEX('Referenčne količine'!$P$4:$P$6,MATCH('OB01'!B6,'Referenčne količine'!$B$4:$B$6,0)) -> DO
A9: Tip energenta 2: | B9: =INDEX('Referenčne količine'!$W$4:$W$6,MATCH('OB01'!B6,'Referenčne količine'!$B$4:$B$6,0))
A10: Tip energenta 3: | B10: =INDEX('Referenčne količine'!$AD$4:$AD$6,MATCH('OB01'!B6,'Referenčne količine'!$B$4:$B$6,0))
A12: Referenčna letna raba in stroški energije, stroški vzdrževanja
A13: Vrsta energije | B13: Referenčna poraba/strošek | C13: Prilagojena referenčna poraba/strošek
A14: Referenčna poraba dovedene energije skupaj (kWh) | B14: =INDEX('Referenčne količine'!$AK$4:$AK$6,MATCH('OB01'!$B$6,'Referenčne količine'!$B$4:$B$6,0)) -> 504221 | C14: =INDEX('Referenčne količine'!$AS$4:$AS$6,MATCH('OB01'!$B$6,'Referenčne količine'!$B$4:$B$6,0)) -> 642221
A15: Raba toplote skupaj (kWh) | B15: =INDEX('Referenčne količine'!$AM$4:$AM$6,MATCH('OB01'!$B$6,'Referenčne količine'!$B$4:$B$6,0)) -> 504221 | C15: =INDEX('Referenčne količine'!$AT$4:$AT$6,MATCH('OB01'!$B$6,'Referenčne količine'!$B$4:$B$6,0)) -> 642221
A16: - toplota za ogrevanje (kWh) | B16: =INDEX('Referenčne količine'!$AO$4:$AO$6,MATCH('OB01'!$B$6,'Referenčne količine'!$B$4:$B$6,0)) -> 425383.32 | C16: =INDEX('Referenčne količine'!$AW$4:$AW$6,MATCH('OB01'!$B$6,'Referenčne količine'!$B$4:$B$6,0)) -> 425383.32
A17: - toplota za toplo sanitarno vodo (kWh) | B17: =INDEX('Referenčne količine'!$AP$4:$AP$6,MATCH('OB01'!$B$6,'Referenčne količine'!$B$4:$B$6,0)) -> 40337.68 | C17: =INDEX('Referenčne količine'!$AX$4:$AX$6,MATCH('OB01'!$B$6,'Referenčne količine'!$B$4:$B$6,0)) -> 40337.68
A18: - toplota za mehansko prezračevanje (kWh) | B18: =INDEX('Referenčne količine'!$AQ$4:$AQ$6,MATCH('OB01'!$B$6,'Referenčne količine'!$B$4:$B$6,0)) -> 38500 | C18: =INDEX('Referenčne količine'!$AY$4:$AY$6,MATCH('OB01'!$B$6,'Referenčne količine'!$B$4:$B$6,0)) -> 176500
A19: Strošek toplote skupaj (€) | B19: =INDEX('Referenčne količine'!$AL$4:$AL$6,MATCH('OB01'!$B$6,'Referenčne količine'!$B$4:$B$6,0)) -> 140818.84 | C19: =INDEX('Referenčne količine'!$AV$4:$AV$6,MATCH('OB01'!$B$6,'Referenčne količine'!$B$4:$B$6,0)) -> 179359.48
A20: Cena toplote (€/kWh) | B20: =INDEX('Referenčne količine'!$AN$4:$AN$6,MATCH('OB01'!$B$6,'Referenčne količine'!$B$4:$B$6,0)) -> 0.27928 | C20: =INDEX('Referenčne količine'!$AN$4:$AN$6,MATCH('OB01'!$B$6,'Referenčne količine'!$B$4:$B$6,0)) -> 0.27928
A21: Referenčna raba električne energije skupaj (kWh) | B21: =INDEX('Referenčne količine'!$AZ$4:$AZ$6,MATCH('OB01'!$B$6,'Referenčne količine'!$B$4:$B$6,0)) -> 201458 | C21: =INDEX('Referenčne količine'!$BF$4:$BF$6,MATCH('OB01'!$B$6,'Referenčne količine'!$B$4:$B$6,0)) -> 261958
A22: - električna energija za razsvetljavo (kWh) | B22: =INDEX('Referenčne količine'!$BC$4:$BC$6,MATCH('OB01'!$B$6,'Referenčne količine'!$B$4:$B$6,0)) -> 113040 | C22: =INDEX('Referenčne količine'!$BH$4:$BH$6,MATCH('OB01'!$B$6,'Referenčne količine'!$B$4:$B$6,0)) -> 113040
A23: - električna energija za ostalo (kWh) | B23: =INDEX('Referenčne količine'!$BD$4:$BD$6,MATCH('OB01'!$B$6,'Referenčne količine'!$B$4:$B$6,0)) -> 88418 | C23: =INDEX('Referenčne količine'!$BI$4:$BI$6,MATCH('OB01'!$B$6,'Referenčne količine'!$B$4:$B$6,0)) -> 148918
A24: Strošek električne energije skupaj (€) | B24: =INDEX('Referenčne količine'!$BA$4:$BA$6,MATCH('OB01'!$B$6,'Referenčne količine'!$B$4:$B$6,0)) -> 30218.7 | C24: =INDEX('Referenčne količine'!$BG$4:$BG$6,MATCH('OB01'!$B$6,'Referenčne količine'!$B$4:$B$6,0)) -> 39293.7
A25: Cena električne energije (€/kWh) | B25: =INDEX('Referenčne količine'!$BB$4:$BB$6,MATCH('OB01'!$B$6,'Referenčne količine'!$B$4:$B$6,0)) -> 0.15 | C25: =INDEX('Referenčne količine'!$BB$4:$BB$6,MATCH('OB01'!$B$6,'Referenčne količine'!$B$4:$B$6,0)) -> 0.15
A26: Strošek tekočega in investicijskega vzdrževanja (€) | B26: =INDEX('Referenčne količine'!$BK$4:$BK$6,MATCH('OB01'!$B$6,'Referenčne količine'!$B$4:$B$6,0)) -> 16647
F27: =VALUE(RIGHT(CELL("filename",A1),2)) -> 1
A28: Seznam predvidenih ukrepov | B28: Ukrepi JZP Upravičeni stroški | C28: Ukrepi JZP Neupravičeni stroški | D28: Ukrepi JN Upravičeni stroški | E28: Ukrepi JN Neupravičeni stroški
F29: 1
F30: =F29+1 -> 2
F31: =F30+1 -> 3
F32: =F31+1 -> 4
F33: =F32+1 -> 5
F34: =F33+1 -> 6
F35: =F34+1 -> 7
F36: =F35+1 -> 8
F37: =F36+1 -> 9
F38: =F37+1 -> 10
F39: =F38+1 -> 11
F40: =F39+1 -> 12
F41: =F40+1 -> 13
... F53: =F52+1 -> 25
...

Sheet OB02
A1: Pogodbeno zagotavljanje prihrankov
A3: Osnovni podatki o objektu
A4: Objekt: | B4: =INDEX('Referenčne količine'!$C$4:$C$6,MATCH('OB02'!B6,'Referenčne količine'!$B$4:$B$6,0)) -> Ekonomska šola
A5: Naslov: | B5: =INDEX('Referenčne količine'!$D$4:$D$6,MATCH('OB01'!B6,'Referenčne količine'!$B$4:$B$6,0)) -> Erjavčeva ulica 4a, 5000 Nova Gorica
A6: Oznaka | B6: OB02
A7: Neto površina m2: | B7: =INDEX('Referenčne količine'!$G$4:$G$6,MATCH('OB02'!B6,'Referenčne količine'!$B$4:$B$6,0)) -> 5267
A8: Tip energenta 1: | B8: =INDEX('Referenčne količine'!$P$4:$P$6,MATCH('OB02'!B6,'Referenčne količine'!$B$4:$B$6,0)) -> DO
A9: Tip energenta 2: | B9: =INDEX('Referenčne količine'!$W$4:$W$6,MATCH('OB02'!B6,'Referenčne količine'!$B$4:$B$6,0)) -> 0
A10: Tip energenta 3: | B10: =INDEX('Referenčne količine'!$AD$4:$AD$6,MATCH('OB02'!B6,'Referenčne količine'!$B$4:$B$6,0)) -> 0
A12: Referenčna letna raba in stroški energije, stroški vzdrževanja
A13: Vrsta energije | B13: Referenčna poraba/strošek | C13: Prilagojena referenčna poraba/strošek
A14: Referenčna poraba dovedene energije skupaj (kWh) | B14: =INDEX('Referenčne količine'!$AK$4:$AK$6,MATCH('OB02'!$B$6,'Referenčne količine'!$B$4:$B$6,0)) -> 355153 | C14: =INDEX('Referenčne količine'!$AS$4:$AS$6,MATCH('OB02'!$B$6,'Referenčne količine'!$B$4:$B$6,0)) -> 355153
A15: Raba toplote skupaj (kWh) | B15: =INDEX('Referenčne količine'!$AM$4:$AM$6,MATCH('OB02'!$B$6,'Referenčne količine'!$B$4:$B$6,0)) -> 355153 | C15: =INDEX('Referenčne količine'!$AT$4:$AT$6,MATCH('OB02'!$B$6,'Referenčne količine'!$B$4:$B$6,0)) -> 355153
A16: - toplota za ogrevanje (kWh) | B16: =INDEX('Referenčne količine'!$AO$4:$AO$6,MATCH('OB02'!$B$6,'Referenčne količine'!$B$4:$B$6,0)) -> 319637.7 | C16: =INDEX('Referenčne količine'!$AW$4:$AW$6,MATCH('OB02'!$B$6,'Referenčne količine'!$B$4:$B$6,0)) -> 319637.7
A17: - toplota za toplo sanitarno vodo (kWh) | B17: =INDEX('Referenčne količine'!$AP$4:$AP$6,MATCH('OB01'!$B$6,'Referenčne količine'!$B$4:$B$6,0)) -> 40337.68 | C17: =INDEX('Referenčne količine'!$AX$4:$AX$6,MATCH('OB02'!$B$6,'Referenčne količine'!$B$4:$B$6,0)) -> 35515.3
A18: - toplota za mehansko prezračevanje (kWh) | B18: =INDEX('Referenčne količine'!$AQ$4:$AQ$6,MATCH('OB02'!$B$6,'Referenčne količine'!$B$4:$B$6,0)) -> 0 | C18: =INDEX('Referenčne količine'!$AY$4:$AY$6,MATCH('OB02'!$B$6,'Referenčne količine'!$B$4:$B$6,0)) -> 0
A19: Strošek toplote skupaj (€) | B19: =INDEX('Referenčne količine'!$AL$4:$AL$6,MATCH('OB02'!$B$6,'Referenčne količine'!$B$4:$B$6,0)) -> 99187.13 | C19: =INDEX('Referenčne količine'!$AV$4:$AV$6,MATCH('OB02'!$B$6,'Referenčne količine'!$B$4:$B$6,0)) -> 99187.13
A20: Cena toplote (€/kWh) | B20: =INDEX('Referenčne količine'!$AN$4:$AN$6,MATCH('OB02'!$B$6,'Referenčne količine'!$B$4:$B$6,0)) -> 0.27928 | C20: =INDEX('Referenčne količine'!$AN$4:$AN$6,MATCH('OB02'!$B$6,'Referenčne količine'!$B$4:$B$6,0)) -> 0.27928
A21: Referenčna raba električne energije skupaj (kWh) | B21: =INDEX('Referenčne količine'!$AZ$4:$AZ$6,MATCH('OB02'!$B$6,'Referenčne količine'!$B$4:$B$6,0)) -> 98168 | C21: =INDEX('Referenčne količine'!$BF$4:$BF$6,MATCH('OB02'!$B$6,'Referenčne količine'!$B$4:$B$6,0)) -> 98168
A22: - električna energija za razsvetljavo (kWh) | B22: =INDEX('Referenčne količine'!$BC$4:$BC$6,MATCH('OB02'!$B$6,'Referenčne količine'!$B$4:$B$6,0)) -> 77664 | C22: =INDEX('Referenčne količine'!$BH$4:$BH$6,MATCH('OB02'!$B$6,'Referenčne količine'!$B$4:$B$6,0)) -> 77664
A23: - električna energija za ostalo (kWh) | B23: =INDEX('Referenčne količine'!$BD$4:$BD$6,MATCH('OB02'!$B$6,'Referenčne količine'!$B$4:$B$6,0)) -> 20504 | C23: =INDEX('Referenčne količine'!$BI$4:$BI$6,MATCH('OB02'!$B$6,'Referenčne količine'!$B$4:$B$6,0)) -> 20504
A24: Strošek električne energije skupaj (€) | B24: =INDEX('Referenčne količine'!$BA$4:$BA$6,MATCH('OB02'!$B$6,'Referenčne količine'!$B$4:$B$6,0)) -> 14725.2 | C24: =INDEX('Referenčne količine'!$BG$4:$BG$6,MATCH('OB02'!$B$6,'Referenčne količine'!$B$4:$B$6,0)) -> 14725.2
A25: Cena električne energije (€/kWh) | B25: =INDEX('Referenčne količine'!$BB$4:$BB$6,MATCH('OB01'!$B$6,'Referenčne količine'!$B$4:$B$6,0)) -> 0.15 | C25: =INDEX('Referenčne količine'!$BB$4:$BB$6,MATCH('OB02'!$B$6,'Referenčne količine'!$B$4:$B$6,0)) -> 0.15
A26: Strošek tekočega in investicijskega vzdrževanja (€) | B26: =INDEX('Referenčne količine'!$BK$4:$BK$6,MATCH('OB02'!$B$6,'Referenčne količine'!$B$4:$B$6,0)) -> 10874
F27: =VALUE(RIGHT(CELL("filename",A1),2)) -> 2
A28: Seznam predvidenih ukrepov | B28: Ukrepi JZP Upravičeni stroški | C28: Ukrepi JZP Neupravičeni stroški | D28: Ukrepi JN Upravičeni stroški | E28: Ukrepi JN Neupravičeni stroški
F29: 1
F30: =F29+1 -> 2
F31: =F30+1 -> 3
F32: =F31+1 -> 4
F33: =F32+1 -> 5
F34: =F33+1 -> 6
F35: =F34+1 -> 7
F36: =F35+1 -> 8
F37: =F36+1 -> 9
F38: =F37+1 -> 10
F39: =F38+1 -> 11
F40: =F39+1 -> 12
F41: =F40+1 -> 13
... F53: =F52+1 -> 25
...

Sheet OB03
A1: Pogodbeno zagotavljanje prihrankov
A3: Osnovni podatki o objektu
A4: Objekt: | B4: =INDEX('Referenčne količine'!$C$4:$C$6,MATCH('OB03'!B6,'Referenčne količine'!$B$4:$B$6,0)) -> Elektrotehniška in računalniška šola
A5: Naslov: | B5: =INDEX('Referenčne količine'!$D$4:$D$6,MATCH('OB03'!B6,'Referenčne količine'!$B$4:$B$6,0)) -> Cankarjeva ulica 10, 5000 Nova Gorica
A6: Oznaka | B6: OB03
A7: Neto površina m2: | B7: =INDEX('Referenčne količine'!$G$4:$G$6,MATCH('OB03'!B6,'Referenčne količine'!$B$4:$B$6,0)) -> 2173.75
A8: Tip energenta 1: | B8: =INDEX('Referenčne količine'!$P$4:$P$6,MATCH('OB03'!B6,'Referenčne količine'!$B$4:$B$6,0)) -> DO
A9: Tip energenta 2: | B9: =INDEX('Referenčne količine'!$W$4:$W$6,MATCH('OB03'!B6,'Referenčne količine'!$B$4:$B$6,0))
A10: Tip energenta 3: | B10: =INDEX('Referenčne količine'!$AD$4:$AD$6,MATCH('OB03'!B6,'Referenčne količine'!$B$4:$B$6,0))
A12: Referenčna letna raba in stroški energije, stroški vzdrževanja
A13: Vrsta energije | B13: Referenčna poraba/strošek | C13: Prilagojena referenčna poraba/strošek
A14: Referenčna poraba dovedene energije skupaj (kWh) | B14: =INDEX('Referenčne količine'!$AK$4:$AK$6,MATCH('OB03'!$B$6,'Referenčne količine'!$B$4:$B$6,0)) -> 145003 | C14: =INDEX('Referenčne količine'!$AS$4:$AS$6,MATCH('OB03'!$B$6,'Referenčne količine'!$B$4:$B$6,0)) -> 145003
A15: Raba toplote skupaj (kWh) | B15: =INDEX('Referenčne količine'!$AM$4:$AM$6,MATCH('OB03'!$B$6,'Referenčne količine'!$B$4:$B$6,0)) -> 145003 | C15: =INDEX('Referenčne količine'!$AT$4:$AT$6,MATCH('OB03'!$B$6,'Referenčne količine'!$B$4:$B$6,0)) -> 145003
A16: - toplota za ogrevanje (kWh) | B16: =INDEX('Referenčne količine'!$AO$4:$AO$6,MATCH('OB03'!$B$6,'Referenčne količine'!$B$4:$B$6,0)) -> 145003 | C16: =INDEX('Referenčne količine'!$AW$4:$AW$6,MATCH('OB03'!$B$6,'Referenčne količine'!$B$4:$B$6,0)) -> 145003
A17: - toplota za toplo sanitarno vodo (kWh) | B17: =INDEX('Referenčne količine'!$AP$4:$AP$6,MATCH('OB03'!$B$6,'Referenčne količine'!$B$4:$B$6,0)) -> 0 | C17: =INDEX('Referenčne količine'!$AX$4:$AX$6,MATCH('OB03'!$B$6,'Referenčne količine'!$B$4:$B$6,0)) -> 0
A18: - toplota za mehansko prezračevanje (kWh) | B18: =INDEX('Referenčne količine'!$AQ$4:$AQ$6,MATCH('OB03'!$B$6,'Referenčne količine'!$B$4:$B$6,0)) -> 0 | C18: =INDEX('Referenčne količine'!$AY$4:$AY$6,MATCH('OB03'!$B$6,'Referenčne količine'!$B$4:$B$6,0)) -> 0
A19: Strošek toplote skupaj (€) | B19: =INDEX('Referenčne količine'!$AL$4:$AL$6,MATCH('OB03'!$B$6,'Referenčne količine'!$B$4:$B$6,0)) -> 40496.44 | C19: =INDEX('Referenčne količine'!$AV$4:$AV$6,MATCH('OB03'!$B$6,'Referenčne količine'!$B$4:$B$6,0)) -> 40496.44
A20: Cena toplote (€/kWh) | B20: =INDEX('Referenčne količine'!$AN$4:$AN$6,MATCH('OB03'!$B$6,'Referenčne količine'!$B$4:$B$6,0)) -> 0.27928001 | C20: =INDEX('Referenčne količine'!$AN$4:$AN$6,MATCH('OB03'!$B$6,'Referenčne količine'!$B$4:$B$6,0)) -> 0.27928001
A21: Referenčna raba električne energije skupaj (kWh) | B21: =INDEX('Referenčne količine'!$AZ$4:$AZ$6,MATCH('OB03'!$B$6,'Referenčne količine'!$B$4:$B$6,0)) -> 56510 | C21: =INDEX('Referenčne količine'!$BF$4:$BF$6,MATCH('OB03'!$B$6,'Referenčne količine'!$B$4:$B$6,0)) -> 56510
A22: - električna energija za razsvetljavo (kWh) | B22: =INDEX('Referenčne količine'!$BC$4:$BC$6,MATCH('OB03'!$B$6,'Referenčne količine'!$B$4:$B$6,0)) -> 41760 | C22: =INDEX('Referenčne količine'!$BH$4:$BH$6,MATCH('OB03'!$B$6,'Referenčne količine'!$B$4:$B$6,0)) -> 41760
A23: - električna energija za ostalo (kWh) | B23: =INDEX('Referenčne količine'!$BD$4:$BD$6,MATCH('OB03'!$B$6,'Referenčne količine'!$B$4:$B$6,0)) -> 14750 | C23: =INDEX('Referenčne količine'!$BI$4:$BI$6,MATCH('OB03'!$B$6,'Referenčne količine'!$B$4:$B$6,0)) -> 14750
A24: Strošek električne energije skupaj (€) | B24: =INDEX('Referenčne količine'!$BA$4:$BA$6,MATCH('OB03'!$B$6,'Referenčne količine'!$B$4:$B$6,0)) -> 8476.5 | C24: =INDEX('Referenčne količine'!$BG$4:$BG$6,MATCH('OB03'!$B$6,'Referenčne količine'!$B$4:$B$6,0)) -> 8476.5
A25: Cena električne energije (€/kWh) | B25: =INDEX('Referenčne količine'!$BB$4:$BB$6,MATCH('OB03'!$B$6,'Referenčne količine'!$B$4:$B$6,0)) -> 0.15 | C25: =INDEX('Referenčne količine'!$BB$4:$BB$6,MATCH('OB03'!$B$6,'Referenčne količine'!$B$4:$B$6,0)) -> 0.15
A26: Strošek tekočega in investicijskega vzdrževanja (€) | B26: =INDEX('Referenčne količine'!$BK$4:$BK$6,MATCH('OB03'!$B$6,'Referenčne količine'!$B$4:$B$6,0)) -> 4207
F27: =VALUE(RIGHT(CELL("filename",A1),2)) -> 3
A28: Seznam predvidenih ukrepov | B28: Ukrepi JZP Upravičeni stroški | C28: Ukrepi JZP Neupravičeni stroški | D28: Ukrepi JN Upravičeni stroški | E28: Ukrepi JN Neupravičeni stroški
F29: 1
F30: =F29+1 -> 2
F31: =F30+1 -> 3
F32: =F31+1 -> 4
F33: =F32+1 -> 5
F34: =F33+1 -> 6
F35: =F34+1 -> 7
F36: =F35+1 -> 8
F37: =F36+1 -> 9
F38: =F37+1 -> 10
F39: =F38+1 -> 11
F40: =F39+1 -> 12
F41: =F40+1 -> 13
... F53: =F52+1 -> 25
...

Sheet SKUPAJ
A1: Pogodbeno zagotavljanje prihrankov - Ukrepi skupaj
M2: C | N2: C | O2: C | P2: C
C3: zajamčeni prihranek toplote | F3: zajamčeni prihranek električne energije | I3: zajamčeni prihranek vzdrževanja | J3: ZAJAMČENI PRIHRANEK SKUPAJ € brez DDV | K3: Neto sedanja vrednost prihrankov € brez DDV | L3: Vrednost investicijskih ukrepov JZP v € brez DDV | M3: 43 | N3: 46 | O3: 47 | P3: 48
A4: št. | B4: id | C4: kWh | D4: % | E4: € brez DDV | F4: kWh | G4: % | H4: € brez DDV | I4: € brez DDV
A5: 1 | B5: OB01 | C5: {=INDIRECT($B5&"!C67")+INDIRECT($B5&"!C68")} -> 0 | D5: {=INDIRECT($B5&"!C71")} -> 0 | E5: =INDIRECT($B5&"!C70") -> 0 | F5: {=INDIRECT($B5&"!C77")+INDIRECT($B5&"!C78")} -> 0 | G5: {=INDIRECT($B5&"!C81")} -> 0 | H5: =INDIRECT($B5&"!C80") -> 0 | I5: {=INDIRECT($B5&"!C84")} -> 0 | J5: =E5+H5+I5 -> 0 | K5: {=INDIRECT($B5&"!C88")} -> 0 | L5: {=INDIRECT($B5&"!b55")} -> 0 | M5: ="'"&B5&"'"&"!"&M$2&M$3 -> 'OB01'!C43 | N5: ="'"&$B5&"'"&"!"&N$2&N$3 -> 'OB01'!C46 | O5: ="'"&$B5&"'"&"!"&O$2&O$3 -> 'OB01'!C47 | P5: ="'"&$B5&"'"&"!"&P$2&P$3 -> 'OB01'!C48
A6: 2 | B6: OB02 | C6: {=INDIRECT($B6&"!C67")+INDIRECT($B6&"!C68")} -> 0 | D6: {=INDIRECT($B6&"!C71")} -> 0 | E6: =INDIRECT($B6&"!C70") -> 0 | F6: {=INDIRECT($B6&"!C77")+INDIRECT($B6&"!C78")} -> 0 | G6: {=INDIRECT($B6&"!C81")} -> 0 | H6: {=INDIRECT($B6&"!C80")} -> 0 | I6: {=INDIRECT($B6&"!C84")} -> 0 | J6: =E6+H6+I6 -> 0 | K6: {=INDIRECT($B6&"!C88")} -> 0 | L6: {=INDIRECT($B6&"!b55")} -> 0
A7: 3 | B7: OB03 | C7: {=INDIRECT($B7&"!C67")+INDIRECT($B7&"!C68")} -> 0 | D7: {=INDIRECT($B7&"!C71")} -> 0 | E7: =INDIRECT($B7&"!C70") -> 0 | F7: {=INDIRECT($B7&"!C77")+INDIRECT($B7&"!C78")} -> 0 | G7: {=INDIRECT($B7&"!C81")} -> 0 | H7: {=INDIRECT($B7&"!C80")} -> 0 | I7: {=INDIRECT($B7&"!C84")} -> 0 | J7: =E7+H7+I7 -> 0 | K7: {=INDIRECT($B7&"!C88")} -> 0 | L7: {=INDIRECT($B7&"!b55")} -> 0 | M7: ="'"&B7&"'"&"!"&M$2&M$3 -> 'OB03'!C43 | N7: ="'"&$B7&"'"&"!"&N$2&N$3 -> 'OB03'!C46 | O7: ="'"&$B7&"'"&"!"&O$2&O$3 -> 'OB03'!C47 | P7: ="'"&$B7&"'"&"!"&P$2&P$3 -> 'OB03'!C48
A8: SKUPAJ | C8: =SUM(C5:C7) -> 0 | D8: =AVERAGE(D5:D7) -> 0 | E8: =SUM(E5:E7) -> 0 | F8: =SUM(F5:F7) -> 0 | G8: =AVERAGE(G5:G7) -> 0 | H8: =SUM(H5:H7) -> 0 | I8: =SUM(I5:I7) -> 0 | J8: =SUM(J5:J7) -> 0 | K8: =SUM(K5:K7) -> 0 | L8: =SUM(L5:L7) -> 0

Sheet VZOREC OBRAČUNA
A1: OBRAČUN PRIHRANKOV NA OBJEKTU | W1: Sklop:
W2: Objekt:
B3: ID OBJEKTA | G3: Sklop: | J3: OBRAČUNSKO OBDOBJE | P3: PROJEKT
B4: NAZIV OBJEKTA
J5: STATUS OBRAČUNA | P5: NAROČNIK
B6: NASLOV
P8: POGODBA
B9: REKAPITULACIJA
C10: POGODBENE VREDNOSTI ZA REFERENČNO OBDOBJE | F10: IZHODIŠČNE VREDNOSTI ZA OBRAČUNSKO OBDOBJE | I10: OBRAČUNSKE VREDNOSTI V OBRAČUNSKEM OBDOBJU | L10: RAZLIKA MED DOSEŽENIM IN ZAJAMČENIM PRIHRANKOM V OBRAČUNSKEM OBDOBJU
C11: ZAJAMČENI PRIHRANEK | F11: ZAJAMČENI PRIHRANEK | I11: DOSEŽENI PRIHRANEK | L11: PRIHRANEK
C12: kWh | D12: € | E12: % | F12: kWh | G12: € | H12: % | I12: kWh | J12: € | K12: % | L12: kWh | M12: € | N12: bonus/malus
B13: TOPLOTA | C13: =SUM(M42:O42) -> #DIV/0! | D13: =S42 -> #DIV/0! | E13: =D13/I33 -> #DIV/0! | F13: =SUM(M62:O62) -> #DIV/0! | G13: =S62 -> #DIV/0! | H13: =S62/I53 -> #DIV/0! | I13: =SUM(G81:I81) -> #DIV/0! | J13: =M81 -> #DIV/0! | K13: =M81/I53 -> #DIV/0! | L13: =I13-F13 -> #DIV/0! | M13: =ROUND(J13-G13,2) -> #DIV/0! | N13: =IF(M13>0,"BONUS",IF(M13<0,"MALUS","-")) -> #DIV/0!
B14: ELEKTRIKA | C14: =SUM(K92:M92) -> 0 | D14: =Q92 -> 0 | E14: =Q92/G92 -> #DIV/0! | F14: =SUM(K100:M100) -> 0 | G14: =Q100 -> 0 | H14: =Q100/G100 -> #DIV/0! | I14: =SUM(N108:P108) -> 0 | J14: =T108 -> 0 | K14: =T108/G100 -> #DIV/0! | L14: =I14-F14 -> 0 | M14: =ROUND(J14-G14,2) -> 0 | N14: =IF(M14>0,"BONUS",IF(M14<0,"MALUS","-")) -> -
B15: VZDRŽEVANJE | C15: 0 | D15: =E118 -> 0 | E15: =E118/C118 -> #DIV/0! | F15: 0 | G15: =L118 -> 0 | H15: =L118/J117 -> #DIV/0! | I15: 0 | J15: =R118 -> 0 | K15: =R118/P117 -> #DIV/0! | L15: =I15-F15 -> 0 | M15: =ROUND(J15-G15,2) -> 0 | N15: =IF(M15>0,"BONUS",IF(M15<0,"MALUS","-")) -> -
B16: SKUPAJ | C16: =SUM(C13:C15) -> #DIV/0! | D16: =SUM(D13:D15) -> #DIV/0! | E16: =AVERAGE(E13:E15) -> #DIV/0! | F16: =SUM(F13:F15) -> #DIV/0! | G16: =SUM(G13:G15) -> #DIV/0! | H16: =AVERAGE(H13:H15) -> #DIV/0! | I16: =SUM(I13:I15) -> #DIV/0! | J16: =SUM(J13:J15) -> #DIV/0! | K16: =AVERAGE(K13:K15) -> #DIV/0! | L16: =SUM(L13:L15) -> #DIV/0! | M16: =SUM(M13:M15) -> #DIV/0! | N16: =IF(M13>0,"BONUS",IF(M13<0,"MALUS","-")) -> #DIV/0!
A19: I. TOPLOTA
C21: Referenčno obdobje: | H21: Izhodiščno obračunsko obdobje: | M21: Dejansko obračunsko obdobje
C22: Podnebna postaja: | H22: Izhodiščni DTP v primerljivem ref. obdobju | M22: Izhodiščni DTP v obračunskem obdobju
C23: Pogodbeni DTP v ref. obdobju: | H23: Razmerje DTP primerljivo/ pogododbeno obdobje | I23: =IFERROR(I22/D23,"-") -> - | M23: Faktor DTP za obdobje | N23: =I22/N22 -> #DIV/0!
A25: POGODBENE REFERENCE | B25: A. POGODBENE VREDNOSTI ZA REFERENČNO OBDOBJE
B26: Metoda izračuna prihrankov | C26: Vrsta rabe toplote | E26: Referenčna raba toplote (prilagojena) | F26: Referenčna cena toplote | G26: Referenčna dovedena energija (prilagojena) | H26: Cena dovedene energije | I26: Referenčni strošek dovedene energije za toploto | J26: Novopričakovana raba dovedene energije
J27: ELEKTRIČNA ENERGIJA | L27: UTEKOČINJENI NAFTNI PLIN | N27: EKSTRA LAHKO KURILNO OLJE | P27: BIOMASA | R27: ZEMELJSKI PLIN | T27: DALJINSKO OGREVANJE | V27: SKUPAJ
J28: raba dovedene energije | K28: referenčna cena | L28: raba dovedene energije | M28: referenčna cena | N28: raba dovedene energije | O28: referenčna cena | P28: raba dovedene energije | Q28: referenčna cena | R28: raba dovedene energije | S28: referenčna cena | T28: raba dovedene energije | U28: referenčna cena | V28: raba dovedene energije
E29: kWh | F29: €/kWh | G29: kWh | H29: €/kWh | I29: € | J29: kWh | K29: €/kWh | L29: kWh | M29: €/kWh | N29: kWh | O29: €/kWh | P29: kWh | Q29: €/kWh | R29: kWh | S29: €/kWh | T29: kWh | U29: €/kWh | V29: kWh
B30: Merjeni | C30: OGREVANJE | G30: =G33*E30/E33 -> #DIV/0! | H30: =ROUND(F30*E33/G33,5) -> #DIV/0! | I30: =ROUND(E30*F30,2) -> 0 | L30: 0 | M30: 0 | P30: 0 | Q30: 0 | T30: 0 | U30: 0 | V30: =J30+L30+N30+P30+R30+T30 -> 0
B31: Merjeni | C31: SANITARNA TOPLA VODA | G31: =G33*E31/E33 -> #DIV/0! | I31: =ROUND(E31*F30,2) -> 0
B32: Normirani | C32: OSTALO - PRISILNO PREZRAČEVANJE | G32: =G33*E32/E33 -> #DIV/0! | I32: =ROUND(E32*F30,2) -> 0
B33: SKUPAJ | E33: =SUM(E30:E32) -> 0 | I33: =SUM(I30:I32) -> 0 | J33: =SUM(J30:J32) -> 0 | L33: =SUM(L30:L32) -> 0 | N33: =SUM(N30:N32) -> 0 | P33: =SUM(P30:P32) -> 0 | R33: =SUM(R30:R32) -> 0 | T33: =SUM(T30:T32) -> 0 | V33: =SUM(V30) -> 0
B35: Metoda izračuna prihrankov | C35: Vrsta rabe toplote | E35: Zajamčeni prihranki
E37: nova cena toplote | F37: novopričakovana dejanska raba toplote (izhodiščne vrednosti) | G37: nova cena dovedene energije | H37: novopričakovana dejanska raba dovedene energije | I37: nov strošek dovedene energije | J37: dejanski merjeni prihranek toplote | K37: dejanski normirani prihranek toplote | L37: dodatni normirani prihranek toplote | M37: dejanski merjeni prihranek dovedene energije | N37: dejanski normirani prihranek dovedene energije | O37: dodatni normirani prihranek dovedene energije | P37: dejanski merjeni prihranek | Q37: dejanski normirani prihranek | R37: dodatni normirani prihranek | S37: Skupaj zajamčeni prihranki
E38: €/kWh | F38: kWh | G38: €/kWh | H38: kWh | I38: € | J38: kWh | K38: kWh | L38: kWh | M38: kWh | N38: kWh | O38: kWh | P38: € | Q38: € | R38: € | S38: €
B39: Merjeni | C39: OGREVANJE | E39: =ROUND(((J30*K30)+(L30*M30)+(N30*O30)+(P30*Q30)+(R30*S30)+(T30*U30))/F42,5) -> #DIV/0! | G39: =ROUND(((J30*K30)+(L30*M30)+(N30*O30)+(P30*Q30)+(R30*S30)+(T30*U30))/H42,5) -> #DIV/0! | H39: =ROUND(V30*F39/F42,1) -> #DIV/0! | I39: =ROUND(G39*H39,2) -> #DIV/0! | J39: =E30-F39 -> 0 | M39: =G30-H39 -> #DIV/0! | P39: =I30-I39 -> #DIV/0! | S39: =SUM(P39:R39) -> #DIV/0!
B40: Merjeni | C40: SANITARNA TOPLA VODA | H40: =ROUND(V30*F40/F42,1) -> #DIV/0! | I40: =ROUND(G39*H40,2) -> #DIV/0! | J40: =E31-F40 -> 0 | M40: =G31-H40 -> #DIV/0! | P40: =I31-I40 -> #DIV/0! | S40: =SUM(P40:R40) -> #DIV/0!
B41: Normirani | C41: OSTALO - PRISILNO PREZRAČEVANJE | H41: =ROUND(V30*F41/F42,1) -> #DIV/0! | I41: =ROUND(G39*H41,2) -> #DIV/0! | J41: 0 | K41: =E32-F41 -> 0 | M41: 0 | N41: =G32-H41 -> #DIV/0! | O41: =IFERROR(L41*N41/K41,0) -> 0 | P41: =F41*(F30-E39) -> #DIV/0! | Q41: =K41*F30 -> 0 | R41: =L41*F30 -> 0 | S41: =ROUND(SUM(P41:R41),2) -> #DIV/0!
B42: SKUPAJ | F42: =SUM(F39:F41) -> 0 | H42: =SUM(H39:H41) -> #DIV/0! | I42: =SUM(I39:I41) -> #DIV/0! | J42: =SUM(J39:J41) -> 0 | K42: =SUM(K39:K41) -> 0 | L42: =SUM(L41) -> 0 | M42: =SUM(M39:M41) -> #DIV/0! | N42: =SUM(N39:N41) -> #DIV/0! | O42: =SUM(O41) -> 0 | P42: =SUM(P39:P41) -> #DIV/0! | Q42: =SUM(Q39:Q41) -> 0 | R42: =SUM(R39:R41) -> 0 | S42: =SUM(S39:S41) -> #DIV/0!
A45: OBRAČUNSKE REFERENCE | B45: B. IZHODIŠČNE VREDNOSTI ZA OBRAČUNSKO OBDOBJE
B46: Način izračuna prihrankov | C46: Vrsta rabe toplote | D46: Korekcijski faktor za obračunsko obdobje | E46: Referenčna raba toplote (prilagojena) | F46: Referenčna cena toplote | G46: Referenčna dovedena energija (prilagojena) | H46: Cena dovedene energije | I46: Referenčni strošek dovedene energije za toploto | J46: Novopričakovana raba dovedene energije
J47: ELEKTRIČNA ENERGIJA | L47: UTEKOČINJENI NAFTNI PLIN | N47: EKSTRA LAHKO KURILNO OLJE | P47: BIOMASA | R47: ZEMELJSKI PLIN | T47: DALJINSKO OGREVANJE | V47: SKUPAJ
J48: raba dovedene energije | K48: referenčna cena | L48: raba dovedene energije | M48: referenčna cena | N48: raba dovedene energije | O48: referenčna cena | P48: raba dovedene energije | Q48: referenčna cena | R48: raba dovedene energije | S48: referenčna cena | T48: raba dovedene energije | U48: referenčna cena | V48: raba dovedene energije
E49: kWh | F49: €/kWh | G49: kWh | H49: €/kWh | I49: € | J49: kWh | K49: €/kWh | L49: kWh | M49: €/kWh | N49: kWh | O49: €/kWh | P49: kWh | Q49: €/kWh | R49: kWh | S49: €/kWh | T49: kWh | U49: €/kWh | V49: kWh
...
