Workbook

Sheet Program
B6: PRILOGA 1: SKLOP A
A14: PROGRAM IZVAJANJA KONCESIJE
A21: VSEBINA
A23: PODATKI O OBJEKTIH
A24: REFERENČNE KOLIČINE
A25: CENE ENERGENTOV
A26: STANDARD UDOBJA
A27: SPLOŠNE ZAHTEVE KONCENDENTA GLEDE IZVEDBE UKREPOV
A28: ZAHTEVE KONCEDENTA GLEDE UPRAVLJANJA IN VZDRŽEVANJA
A29: OBRAZCI ZA VNOS UKREPOV IN PRIHRANKOV (PO OBJEKTIH IN SKUPNO)
A30: VZORCI OBRAČUNOV

Sheet Podatki o objektih
A2: SEZNAM OBJEKTOV
A5: Št. | B5: ID | C5: Naziv objekta | D5: Naslov | E5: Tip objekta | F5: Kontaktne osebe
A6: 1 | B6: OB01 | C6: =INDEX('Referenčne količine'!$C$4:$C$6,MATCH(Tabela7[[#This Row],[ID]],'Referenčne količine'!$B$4:$B$6,0)) -> Strojna, prometna in lesarska šola | D6: =INDEX('Referenčne količine'!$D$4:$D$6,MATCH(Tabela7[[#This Row],[ID]],'Referenčne količine'!$B$4:$B$6,0)) -> Erjavčeva ulica 4a, 5000 Nova Gorica | E6: =INDEX('Referenčne količine'!$E$4:$E$6,MATCH(Tabela7[[#This Row],[ID]],'Referenčne količine'!$B$4:$B$6,0)) -> Šola
A7: 2 | B7: OB02 | C7: =INDEX('Referenčne količine'!$C$4:$C$6,MATCH(Tabela7[[#This Row],[ID]],'Referenčne količine'!$B$4:$B$6,0)) -> Ekonomska šola | D7: =INDEX('Referenčne količine'!$D$4:$D$6,MATCH(Tabela7[[#This Row],[ID]],'Referenčne količine'!$B$4:$B$6,0)) -> Erjavčeva ulica 8, 5000 Nova Gorica | E7: =INDEX('Referenčne količine'!$E$4:$E$6,MATCH(Tabela7[[#This Row],[ID]],'Referenčne količine'!$B$4:$B$6,0)) -> Šola
A8: 3 | B8: OB03 | C8: =INDEX('Referenčne količine'!$C$4:$C$6,MATCH(Tabela7[[#This Row],[ID]],'Referenčne količine'!$B$4:$B$6,0)) -> Elektrotehniška in računalniška šola | D8: =INDEX('Referenčne količine'!$D$4:$D$6,MATCH(Tabela7[[#This Row],[ID]],'Referenčne količine'!$B$4:$B$6,0)) -> Cankarjeva ulica 10, 5000 Nova Gorica | E8: =INDEX('Referenčne količine'!$E$4:$E$6,MATCH(Tabela7[[#This Row],[ID]],'Referenčne količine'!$B$4:$B$6,0)) -> Šola

Sheet Referenčne količine
A1: OSNOVNI PODATKI O OBJEKTU | P1: TOPLOTA | AZ1: ELEKTRIČNA ENERGIJA ZA DELOVANJE OBJEKTA | BJ1: STROŠKI SKUPAJ
P2: ENERGENT 1 | W2: ENERGENT 2 | AD2: ENERGENT 3
A3: Št. | B3: ID | C3: ime objekta | D3: naslov | E3: namembnost objekta | F3: celotna kvadratura [m2] | G3: ogrevana kvadratura [m2] | H3: hlajena kvadratura [m2] | I3: število etaž | J3: višina etaže [m] | K3: prostornina [m3] | L3: leto izgradnje | M3: Predlagano referenčno obdobje | N3: specifična raba toplote [kWh/m2] | O3: specifična raba elektrike [kWh/m2] | P3: ENERGENT 1 vrsta energenta | Q3: raba energenta [litri, kWh] | R3: enota | S3: kurilnost [kWh / enoto] | T3: strošek energenta [€ brez DDV] | U3: dovedena energija [kWh] | V3: Izkoristek ogrevalnega sistema 1 [%] | W3: ENERGENT 2 vrsta energenta | X3: raba energenta [litri, kWh] | Y3: enota | Z3: kurilnost [kWh / enoto] | AA3: strošek energenta [€ brez DDV] | AB3: dovedena energija [kWh] | AC3: Izkoristek ogrevalnega sistema 2 [%] | AD3: ENERGENT 3 vrsta energenta | AE3: raba energenta [litri, kWh] | AF3: enota | AG3: kurilnost [kWh / enoto] | AH3: strošek energenta [€ brez DDV] | AI3: dovedena energija [kWh] | AJ3: Izkoristek ogrevalnega sistema 3 [%] | AK3: skupaj dovedena energija [kWh] | AL3: skupaj strošek toplote [€ brez DDV] | AM3: raba toplote brez prilagoditev (koristna en.) [kWh] | AN3: cena toplote brez DDV [€/kWh] | AO3: raba toplote za ogrevanje [kWh] | AP3: raba toplote za STV [kWh] | AQ3: raba toplote za mehansko prezračevanje [kWh] | AR3: prilagoditev rabe toplote skupaj (npr. dvig udobja) [kWh] | AS3: dovedena energija s prilagoditvami [kWh] | AT3: raba toplote s prilagoditvami [kWh] (koristna en.) | AU3: cena toplote s prilagoditvami [€/kWh] | AV3: prilagojen letni strošek toplote [€ brez DDV] | AW3: prilagojena raba toplote za ogrevanje [kWh] | AX3: prilagojena raba toplote za STV [kWh] | AY3: prilagojena raba toplote za mehansko prezračevanje [kWh] | AZ3: raba električne energije [kWh] | BA3: strošek električne energije [€ brez DDV] | BB3: referenčna cena električne energije [€/kWh] | BC3: raba električne energije za razsvetljavo [kWh] | BD3: raba električne energije za ostalo [kWh] | BE3: prilagoditev rabe električne energije [kWh] | BF3: prilagojena raba električne energije [kWh] | BG3: prilagojen letni strošek električne energije [€ brez DDV] | BH3: prilagojena raba električne energije za razsvetljavo [kWh] | BI3: prilagojena raba električne energije za ostalo [kWh] | BJ3: SKUPAJ STROŠEK ENERGENTOV [€ brez DDV] | BK3: STROŠEK TEKOČEGA IN INVESTICIJSKEGA VZDRŽEVANJA ENERGETSKIH NAPRAV [€ brez DDV] | BL3: SKUPAJ VSI STROŠKI [€ brez DDV] | BM3: Opombe
A4: 1 | B4: OB01 | C4: Strojna, prometna in lesarska šola | D4: Erjavčeva ulica 4a, 5000 Nova Gorica | E4: Šola | G4: 7420.62 | M4: 2016-2018 | N4: =AS4/G4 -> 86.545464 | O4: =BF4/G4 -> 35.301363 | P4: DO | Q4: 504221 | R4: kWh | S4: 1 | T4: 140818.84 | U4: 504221 | V4: 1 | X4: 0 | Z4: 0 | AA4: 0 | AB4: 0 | AC4: 0 | AE4: 0 | AG4: 0 | AH4: 0 | AI4: 0 | AJ4: 0 | AK4: =U4+AB4+AI4 -> 504221 | AL4: =ROUND(T4+AA4+AH4,2) -> 140818.84 | AM4: =U4*V4+AB4*AC4+AI4*AJ4 -> 504221 | AN4: =AL4/AM4 -> 0.27928 | AO4: 425383.32 | AP4: 40337.68 | AQ4: 38500 | AR4: 138000 | AS4: =AT4*AK4/AM4 -> 642221 | AT4: =AM4+AR4 -> 642221 | AU4: =AN4 -> 0.27928 | AV4: =AL4+AR4*AU4 -> 179359.48 | AW4: 425383.32 | AX4: 40337.68 | AY4: 176500 | AZ4: 201458 | BA4: 30218.7 | BB4: =BA4/AZ4 -> 0.15 | BC4: 113040 | BD4: 88418 | BE4: 60500 | BF4: =AZ4+BE4 -> 261958 | BG4: =BF4*BB4 -> 39293.7 | BH4: 113040 | BI4: 148918 | BJ4: =AV4+BG4 -> 218653.18 | BK4: 16647 | BL4: =BJ4+BK4 -> 235300.18
A5: 2 | B5: OB02 | C5: Ekonomska šola | D5: Erjavčeva ulica 8, 5000 Nova Gorica | E5: Šola | G5: 5267 | M5: 2017-2019 | N5: =AS5/G5 -> 67.429846 | O5: =BF5/G5 -> 18.638314 | P5: DO | Q5: 355153 | R5: kWh | S5: 1 | T5: 99187.13 | U5: 355153 | V5: 1 | W5: 0 | X5: 0 | Z5: 0 | AA5: 0 | AB5: 0 | AC5: 1 | AD5: 0 | AE5: 0 | AG5: 0 | AH5: 0 | AI5: 0 | AJ5: 1 | AK5: =U5+AB5+AI5 -> 355153 | AL5: =ROUND(T5+AA5+AH5,2) -> 99187.13 | AM5: =U5*V5+AB5*AC5+AI5*AJ5 -> 355153 | AN5: =AL5/AM5 -> 0.27928 | AO5: 319637.7 | AP5: 35515.3 | AQ5: 0 | AR5: 0 | AS5: =AT5*AK5/AM5 -> 355153 | AT5: =AM5+AR5 -> 355153 | AU5: =AN5 -> 0.27928 | AV5: =AL5+AR5*AU5 -> 99187.13 | AW5: 319637.7 | AX5: 35515.3 | AY5: 0 | AZ5: 98168 | BA5: 14725.2 | BB5: =BA5/AZ5 -> 0.15 | BC5: 77664 | BD5: 20504 | BE5: 0 | BF5: =AZ5+BE5 -> 98168 | BG5: =BF5*BB5 -> 14725.2 | BH5: 77664 | BI5: 20504 | BJ5: =AV5+BG5 -> 113912.33 | BK5: 10874 | BL5: =BJ5+BK5 -> 124786.33
A6: 3 | B6: OB03 | C6: Elektrotehniška in računalniška šola | D6: Cankarjeva ulica 10, 5000 Nova Gorica | E6: Šola | G6: 2173.75 | M6: 2017-2020 | N6: =AS6/G6 -> 66.706383 | O6: =BF6/G6 -> 25.99655 | P6: DO | Q6: 145003 | R6: kWh | S6: 1 | T6: 40496.438 | U6: 145003 | V6: 1 | X6: 0 | Z6: 0 | AA6: 0 | AB6: 0 | AC6: 0 | AE6: 0 | AG6: 0 | AH6: 0 | AI6: 0 | AJ6: 0 | AK6: =U6+AB6+AI6 -> 145003 | AL6: =ROUND(T6+AA6+AH6,2) -> 40496.44 | AM6: =U6*V6+AB6*AC6+AI6*AJ6 -> 145003 | AN6: =AL6/AM6 -> 0.27928001 | AO6: 145003 | AP6: 0 | AQ6: 0 | AR6: 0 | AS6: =AT6*AK6/AM6 -> 145003 | AT6: =AM6+AR6 -> 145003 | AU6: =AN6 -> 0.27928001 | AV6: =AL6+AR6*AU6 -> 40496.44 | AW6: 145003 | AX6: 0 | AY6: 0 | AZ6: 56510 | BA6: 8476.5 | BB6: =BA6/AZ6 -> 0.15 | BC6: 41760 | BD6: 14750 | BE6: 0 | BF6: =AZ6+BE6 -> 56510 | BG6: =BF6*BB6 -> 8476.5 | BH6: 41760 | BI6: 14750 | BJ6: =AV6+BG6 -> 48972.94 | BK6: 4207 | BL6: =BJ6+BK6 -> 53179.94
B9: OPOMBA: | C9: Ponudnik vnese v stolpce "prilagoditev rabe" predvidene spremembe referenčnih vrednosti, z ustreznim pojasnilom

Sheet Cene energentov
B1: CENE ENERGENTOV OB MENJAVI VHODNEGA ENERGENTA
B3: VHODNI ENERGENTI: | G3: Referenčna vrednost ob menjavi energenta
B4: Oznaka | C4: Vhodni energent | D4: Merska enota | E4: Kurilna vrednost | G4: Povprečna cena dovedene energije (EUR brez DDV)
B5: ELKO | C5: Ekstra lahko kurilno olje (ELKO) | D5: l (liter) | E5: 10.06 | F5: kWh/l | H5: €/kWh
B6: KO | C6: Kurilno olje - srednje | D6: Kg | E6: 11.5 | F6: kWh/kg
B7: DO | C7: Daljinsko ogrevanje | D7: kWh | E7: 1 | F7: kWh/kWh | G7: 0.279 | H7: €/kWh
B8: ZP | C8: Daljinsko ogrevanje | D8: kWh | E8: 7.17 | F8: kWh/kWh | G8: 0.279
B9: ZP | C9: Daljinsko ogrevanje | D9: kWh | E9: 31.05 | F9: kWh/kWh | G9: 0.279 | H9: €/kWh
B10: ZP | C10: Daljinsko ogrevanje | D10: kWh | E10: 4.9 | F10: kWh/kWh | G10: 0.279 | H10: €/kWh
B11: DO | C11: Daljinsko ogrevanje | D11: kWh | E11: 1 | F11: kWh/kWh | G11: 0.279 | H11: €/kWh
B12: DO | C12: Daljinsko ogrevanje | D12: kWh | E12: 1 | F12: kWh/kWh | G12: 0.279 | H12: €/kWh
B13: EE | C13: Električna energija | D13: kWh | E13: 0 | F13: kWh/kWh | G13: 0.15 | H13: €/kWh
B14: EE | C14: Električna energija (za TČ) | D14: kWh | E14: 1 | F14: kWh/kWh | G14: 0.15 | H14: €/kWh
B15: ELKO | C15: Ekstra lahko kurilno olje (ELKO) | D15: l (liter) | E15: 10.08 | F15: kWh/l | H15: €/kWh
B20: Opomba: Ponudnik vpiše predvidene cene energentov po sanaciji v primeru menjave energentov na objektu. V sklopu predmetne ponudbe ne nudi dobave energentov.
C21: V sklopu predmetne ponudbe ponudnik ne nudi dobave energentov.

Sheet STANDARD UDOBJA
A1: STANDARD UDOBJA V OBJEKTIH
A3: Minimalno ugodje v prostorih v času izvajanja ogrevanja (pozimi):
A5: Vrsta stavbe/prostora: | B5: Obremenjenost prostora (oseb/m2) | C5: Notranja temp. zraka (°C) | D5: Toleranca* (°C) | E5: Relativna vlažnost zraka (%) | F5: Max. koncentracija CO2 (ppm) | G5: Količina svežega zraka v primeru mehanskega prezračevanja (m3/h m2) | H5: Povprečna vzdrževana osvetljenost (lux) EN 12464-1 | I5: Opombe
A6: Vrtec - Igralnica II. starostno obdobje | B6: 0.5 | C6: 21 | D6: ± 2 | E6: 40 - 60 | F6: 1667 | G6: 10.1 | H6: 300
A7: Vrtec - Igralnica I. starostno obdobje | B7: 0.5 | C7: 23 | D7: =D6 -> ± 2 | E7: 40 - 60 | F7: 1667 | G7: 10.1 | H7: 300
A8: Vrtec - Športna igralnica | B8: 0.5 | C8: 20 | D8: =D7 -> ± 2 | E8: 40 - 60 | F8: 1667 | H8: 300
A9: Vrtec - Umivalnica | C9: 21 | D9: =D8 -> ± 2 | E9: 40 - 60 | F9: 1667 | H9: 300
A10: Osnovna šola - Učilnica | B10: 0.5 | C10: 21 | D10: =D9 -> ± 2 | E10: 40 - 60 | F10: 1667 | G10: 8.6 | H10: 300
A11: Telovadnica, športna dvorana | B11: 0.5 | C11: 19 | D11: =D10 -> ± 2 | E11: 40 - 60 | F11: 1667 | H11: 300
A12: Garderobe šola, vrtec, šp. Dvorana | B12: 1 | C12: 21 | D12: =D11 -> ± 2 | E12: 40 - 60 | F12: 1667 | H12: 300
A13: Kopalnica | B13: 0.5 | C13: 24 | D13: =D12 -> ± 2 | E13: 40 - 60 | F13: 1667 | H13: 200
A14: Sanitarije | C14: 18 | D14: =D13 -> ± 2 | E14: 40 - 60 | F14: 1667 | H14: 200
A15: Pisarne, upravni prostori | B15: 0.1 | C15: 21 | D15: =D14 -> ± 2 | E15: 40 - 60 | F15: 1667 | G15: 2.5 | H15: 500
A16: Avla, avditorij, skupni prostori, hodniki, jedilnica | B16: 1 | C16: 20 | D16: =D15 -> ± 2 | E16: 40 - 60 | F16: 1667 | G16: po projektu | H16: 200
A17: Bazenski prostor | B17: 0.5 | C17: 25 - 28 | D17: =D16 -> ± 2 | E17: 35 - 60 | F17: 1667 | G17: po projektu | H17: 300 | I17: +2°C nad temp. bazenske vode
A18: Bazen - garderobe | C18: 24 | D18: =D17 -> ± 2 | E18: 40 - 60 | F18: 1667 | G18: po projektu | H18: 300
A19: Servisni prostori | B19: 0.1 | C19: 18 | D19: =D18 -> ± 2 | E19: 40 - 60 | F19: 1667 | H19: 150
A21: Minimalna temperatura sanitarne tople vode:
A22: Lokacija meritve | B22: Temperatura STV (°C)
A23: Na iztočnem mestu (pipa) | B23: 50 | D23: *v vrtcih skladno s pravilnikom
A25: Vrednosti so smiselno povzete po pravilniku SIST EN 12831, Pravilnik o prezračevanju stavb (UL RS 42/2002) oziroma na podlagi izkušenj.
A26: Pravilnik o pitni vodi in Priporočila IVZ – NIJZ (Nacionalni inštitut za javno zdravje)
A27: Pravilnik o normativih in minimalnih tehničnih pogojih za prostor in opremo vrtca (UR RS 73/00, 75/05, 33/08, 126/08, 47/10, 47/13,74/16)
A28: Osvetljenost notranjih prostorov - standard SIST EN 12464-1:2011.
A29: *OPOMBA: Toleranca v - (navzdol) je dopustna samo v določenih delih dneva (jutranji zagoni, prezračevanje tekom dneva..) in ne sme presegati 15% obratovalnega časa dnevno.
A31: Meje odgovornosti koncesionarja za doseganje standardov udobja:
A32: Koncesionar je odgovoren za doseganje standardov udobja zgolj v obsegu, ki ga tehnično omogočajo ukrepi, ki jih je v okviru izvajanja koncesije izvedel koncesionar.
A33: Koncesionar ni dolžan zagotavljati doseganja predpisanega standarda osvetlitve, če s svojimi ukrepi ne posega v obstoječe sisteme notranje razsvetljave.
A34: Koncesionar ni dolžan zagotavljati doseganje predpisanega standarda prezračevanja (CO2, izmenjeva svežega zraka), če objekti nimajo vgrajenih sistemov prisilnih prezračevanj oz. le-ti niso predmet ukrepov energetske sanacije objektov koncedenta.
A35: Koncesionar ni odgovoren za nedoseganje predpisanih standardov udobja, v kolikor so odstopanja posledica nevestnega ravnanja uporabnikov objekta. Koncesionar je dolžan predhodno podati opozorilo uporabnikom objekta.
A36: Koncesionar ni odgovoren za nedoseganje predpisanih standardov udobja, v kolikor so odstopanja posledica nezanesljive, nekvalitetne in nepravočasne dobave primarnih energentov s strani koncedenta oz. uporabnikov (npr. dobava biomase, ki ne dosega predpisanih standardov kvalitete določene s projekti Obratovanja in vzdrževanja).
A37: Koncesionar ni odgovoren za nedoseganje predpisanih standardov udobja, v kolikor so odstopanja posledica neizvajanja nujno potrebnih vzdrževalnih del na instalacijah, ki niso predmet vzdrževanja koncesionarja in jih je skladno z določenimi mejami projekta tudi nadalje dolžan izvajati koncedent (npr. menjava okvarjenih grelnih teles, radiatorjev, zamenjava dotrajane interne instalacije).
... A39: Dokazno breme obstoja ekskulpacijskih razlogov za zgoraj navedene meje odgovornosti koncesionarja je na strani koncesionarja.

Sheet UKREPI - splošno
A1: I. | B1: UKREPI ZAHTEVANI S STRANI KONCEDENTA ZA ZAGOTAVLJANJE PRIHRANKA
B3: Splošne zahteve:
B5: 1. Vsi pripravljalni ukrepi morajo biti izvedeni skladno z veljavnimi predpisi in standardi.
B7: 2. Koncesionar mora ukrepe v pogodbeni dobi izvajati in vzdrževati skladno z veljavnimi predpisi in standardi.
B9: 3. S svojimi ukrepi koncesionar ne sme znižati standarda (temperature v prostorih, prezračevanje), ki je predpisan v standardu SIST EN 12831 in Smernicami VDI 2067. Če ti pogoji pred ukrepi niso bili doseženi, je potrebno to upoštevati pri referenčnih količinah.
B11: 4. S svojimi ukrepi koncesionar ne sme znižati standarda (osvetlitve), ki je predpisan v standardu SIST EN 12464-1:2011 Če ti pogoji pred izvedbo ukrepov niso bili doseženi, je potrebno to upoštevati pri referenčnih količinah.
B13: 5. Ker standard v prostorih ni natančno popisan, mora koncesionar po podpisu pogodbe v prvi ogrevalni sezoni v prostorih popisati standarde (temperature, prezračevanja, osvetlitve).
B15: 6. Koncesionar po podpisu pogodbe do začetka izvajanja glavne storitve zbrati in preveriti podatke iz razširjenih energetskih pregledov, ki so potrebni za ugotavljanje morebitnih sprememb uporabe objektov (število uporabnikov, urniki, porabniki energije).
B17: 7. Kjer so referenčne vrednosti rabe energije podane v energiji porabljenega goriva in še ni uvedenih meritev, mora koncesionar do dogovorjenega roka po pogodbi (pripravljalna storitev) vgraditi merilne naprave.
B19: 8. Koncesionar mora do začetka izvajanja glavne storitve vzpostaviti sistem energetskega upravljanja za vse objekte iz seznama stavb naročnika po zahtevah določenih v zavihku Energetsko upravljanje.
B21: 9. Po dokončanju pripravljalne storitve mora koncesionar koncedentu predati naslednjo dokumentacijo:
B22: - Poročila o morebitnih meritvah
B23: - Projekte izvedenih del in projekte za obratovanje in vzdrževanje.
... B29: 12. Koncedent ima pravico kadarkoli izvajati nadzor nad pripravljalnimi deli koncesionarja.

Sheet EN. UPRAVLJANJE
A1: III. | B1: ZAHTEVE NAROČNIKA GLEDE SISTEMA ENERGETSKEGA UPRAVLJANJA

Sheet UKREPI (PO OBJEKTIH)
A2: II. PREDVIDENI UKREPI PO POSAMEZNIH OBJEKTIH
A5: Ukrepi so razvidni iz Priloge Opis ukrepov in ocena investicij

Sheet OB01
A1: Pogodbeno zagotavljanje prihrankov
A3: Osnovni podatki o objektu
A4: Objekt: | B4: =INDEX('Referenčne količine'!$C$4:$C$6,MATCH('OB01'!B6,'Referenčne količine'!$B$4:$B$6,0)) -> Strojna, prometna in lesarska šola
A5: Naslov: | B5: =INDEX('Referenčne količine'!$D$4:$D$6,MATCH('OB01'!B6,'Referenčne količine'!$B$4:$B$6,0)) -> Erjavčeva ulica 4a, 5000 Nova Gorica
A6: Oznaka | B6: OB01
A7: Neto površina m2: | B7: =INDEX('Referenčne količine'!$G$4:$G$6,MATCH('OB01'!B6,'Referenčne količine'!$B$4:$B$6,0)) -> 7420.62
A8: Tip energenta 1: | B8: =INDEX('Referenčne količine'!$P$4:$P$6,MATCH('OB01'!B6,'Referenčne količine'!$B$4:$B$6,0)) -> DO
A9: Tip energenta 2: | B9: =INDEX('Referenčne količine'!$W$4:$W$6,MATCH('OB01'!B6,'Referenčne količine'!$B$4:$B$6,0))
A10: Tip energenta 3: | B10: =INDEX('Referenčne količine'!$AD$4:$AD$6,MATCH('OB01'!B6,'Referenčne količine'!$B$4:$B$6,0))
A12: Referenčna letna raba in stroški energije, stroški vzdrževanja
A13: Vrsta energije | B13: Referenčna poraba/strošek | C13: Prilagojena referenčna poraba/strošek
A14: Referenčna poraba dovedene energije skupaj (kWh) | B14: =INDEX('Referenčne količine'!$AK$4:$AK$6,MATCH('OB01'!$B$6,'Referenčne količine'!$B$4:$B$6,0)) -> 504221 | C14: =INDEX('Referenčne količine'!$AS$4:$AS$6,MATCH('OB01'!$B$6,'Referenčne količine'!$B$4:$B$6,0)) -> 642221
A15: Raba toplote skupaj (kWh) | B15: =INDEX('Referenčne količine'!$AM$4:$AM$6,MATCH('OB01'!$B$6,'Referenčne količine'!$B$4:$B$6,0)) -> 504221 | C15: =INDEX('Referenčne količine'!$AT$4:$AT$6,MATCH('OB01'!$B$6,'Referenčne količine'!$B$4:$B$6,0)) -> 642221
A16: - toplota za ogrevanje (kWh) | B16: =INDEX('Referenčne količine'!$AO$4:$AO$6,MATCH('OB01'!$B$6,'Referenčne količine'!$B$4:$B$6,0)) -> 425383.32 | C16: =INDEX('Referenčne količine'!$AW$4:$AW$6,MATCH('OB01'!$B$6,'Referenčne količine'!$B$4:$B$6,0)) -> 425383.32
A17: - toplota za toplo sanitarno vodo (kWh) | B17: =INDEX('Referenčne količine'!$AP$4:$AP$6,MATCH('OB01'!$B$6,'Referenčne količine'!$B$4:$B$6,0)) -> 40337.68 | C17: =INDEX('Referenčne količine'!$AX$4:$AX$6,MATCH('OB01'!$B$6,'Referenčne količine'!$B$4:$B$6,0)) -> 40337.68
A18: - toplota za mehansko prezračevanje (kWh) | B18: =INDEX('Referenčne količine'!$AQ$4:$AQ$6,MATCH('OB01'!$B$6,'Referenčne količine'!$B$4:$B$6,0)) -> 38500 | C18: =INDEX('Referenčne količine'!$AY$4:$AY$6,MATCH('OB01'!$B$6,'Referenčne količine'!$B$4:$B$6,0)) -> 176500
A19: Strošek toplote skupaj (€) | B19: =INDEX('Referenčne količine'!$AL$4:$AL$6,MATCH('OB01'!$B$6,'Referenčne količine'!$B$4:$B$6,0)) -> 140818.84 | C19: =INDEX('Referenčne količine'!$AV$4:$AV$6,MATCH('OB01'!$B$6,'Referenčne količine'!$B$4:$B$6,0)) -> 179359.48
A20: Cena toplote (€/kWh) | B20: =INDEX('Referenčne količine'!$AN$4:$AN$6,MATCH('OB01'!$B$6,'Referenčne količine'!$B$4:$B$6,0)) -> 0.27928 | C20: =INDEX('Referenčne količine'!$AN$4:$AN$6,MATCH('OB01'!$B$6,'Referenčne količine'!$B$4:$B$6,0)) -> 0.27928
A21: Referenčna raba električne energije skupaj (kWh) | B21: =INDEX('Referenčne količine'!$AZ$4:$AZ$6,MATCH('OB01'!$B$6,'Referenčne količine'!$B$4:$B$6,0)) -> 201458 | C21: =INDEX('Referenčne količine'!$BF$4:$BF$6,MATCH('OB01'!$B$6,'Referenčne količine'!$B$4:$B$6,0)) -> 261958
A22: - električna energija za razsvetljavo (kWh) | B22: =INDEX('Referenčne količine'!$BC$4:$BC$6,MATCH('OB01'!$B$6,'Referenčne količine'!$B$4:$B$6,0)) -> 113040 | C22: =INDEX('Referenčne količine'!$BH$4:$BH$6,MATCH('OB01'!$B$6,'Referenčne količine'!$B$4:$B$6,0)) -> 113040
A23: - električna energija za ostalo (kWh) | B23: =INDEX('Referenčne količine'!$BD$4:$BD$6,MATCH('OB01'!$B$6,'Referenčne količine'!$B$4:$B$6,0)) -> 88418 | C23: =INDEX('Referenčne količine'!$BI$4:$BI$6,MATCH('OB01'!$B$6,'Referenčne količine'!$B$4:$B$6,0)) -> 148918
A24: Strošek električne energije skupaj (€) | B24: =INDEX('Referenčne količine'!$BA$4:$BA$6,MATCH('OB01'!$B$6,'Referenčne količine'!$B$4:$B$6,0)) -> 30218.7 | C24: =INDEX('Referenčne količine'!$BG$4:$BG$6,MATCH('OB01'!$B$6,'Referenčne količine'!$B$4:$B$6,0)) -> 39293.7
A25: Cena električne energije (€/kWh) | B25: =INDEX('Referenčne količine'!$BB$4:$BB$6,MATCH('OB01'!$B$6,'Referenčne količine'!$B$4:$B$6,0)) -> 0.15 | C25: =INDEX('Referenčne količine'!$BB$4:$BB$6,MATCH('OB01'!$B$6,'Referenčne količine'!$B$4:$B$6,0)) -> 0.15
A26: Strošek tekočega in investicijskega vzdrževanja (€) | B26: =INDEX('Referenčne količine'!$BK$4:$BK$6,MATCH('OB01'!$B$6,'Referenčne količine'!$B$4:$B$6,0)) -> 16647
F27: =VALUE(RIGHT(CELL("filename",A1),2)) -> 1
A28: Seznam predvidenih ukrepov | B28: Ukrepi JZP Upravičeni stroški | C28: Ukrepi JZP Neupravičeni stroški | D28: Ukrepi JN Upravičeni stroški | E28: Ukrepi JN Neupravičeni stroški
F29: 1
F30: =F29+1 -> 2
F31: =F30+1 -> 3
F32: =F31+1 -> 4
F33: =F32+1 -> 5
F34: =F33+1 -> 6
F35: =F34+1 -> 7
F36: =F35+1 -> 8
F37: =F36+1 -> 9
F38: =F37+1 -> 10
F39: =F38+1 -> 11
F40: =F39+1 -> 12
F41: =F40+1 -> 13
... F53: =F52+1 -> 25
A54: Skupaj stroški | B54: =SUM(B29:B53) -> 0 | C54: =SUM(C29:C53) -> 0 | D54: =SUM(D29:D53) -> 0 | E54: =SUM(E29:E53) -> 0
A55: Investicijska vrednost ukrepov JZP brez DDV
A56: DDV (22%) | B56: =B55*0.22 -> 0
A57: Skupna investicijska vrednost JZP z DDV | B57: =B56+B55 -> 0
A59: Novopričakovana letna raba in prihranki - toplota
A60: Novopričakovana dejanska raba dovedene energije v kWh
A61: Novopričakovana dejanska raba toplote v kWh:
A62: - toplota za ogrevanje (kWh)
A63: - toplota za toplo sanitarno vodo (kWh)
A64: - toplota za mehansko prezračevanje (kWh)
A65: Nova cena toplote v €/kWh:
A66: Zajamčeni dejanski prihranek dovedene energije v kWh: | C66: =ROUND(IF(C60=0, 0,C14- C60),0) -> 0
A67: Zajamčeni dejanski prihranek toplote v kWh: | C67: =ROUND(IF(C61=0, 0,C15- C61),0) -> 0
A68: Dodatni normalizirani prihranek toplote v kWh: | C68: 0
A69: Novopričakovan letni dejanski strošek toplote v € : | C69: =C65*C61 -> 0
A70: Zajamčeni in normalizirani prihranek ter prihranek v ceni toplote v €: | C70: =(C67+C68)*C20+C61*(C20-C65) -> 0
A71: Zajamčeni in normalizirani prihranek toplote v % | C71: =(C67+C68)/C15 -> 0
A73: Novopričakovana raba električne energije v kWh:
A74: - električna energija za razsvetljavo (kWh)
A75: - električna energija za ostalo (kWh)
A76: Cena električne energije v €/kWh:
A77: Zajamčeni prihranek električne energije v kWh: | C77: =ROUND(IF(C73=0,0,C21-C73),0) -> 0
A78: Dodatni normalizirani prihranek električne energije v kWh: | C78: 0
A79: Novopričakovan letni dejanski strošek električne energije v € : | C79: =C73*C76 -> 0
A80: Zajamčeni in normalizirani prihranek ter prihranek v ceni el. energije v €: | C80: =(C77+C78)*C25+C73*(C25-C76) -> 0
A81: Zajamčeni in normalizirani prihranek električne energije v %: | C81: =(C77+C78)/C21 -> 0
A83: Novopričakovani strošek tekočega in investicijskega vzdrževanja v €: | C83: 0
A84: Zajamčeni prihranek stroškov tekočega in investicijskega vzdrževanja v €: | C84: 0
A85: Zajamčeni prihranek stroškov tekočega in investicijskega vzdrževanja v %: | C85: =IF(B26>0,C84/B26,0) -> 0
A87: ZAJAMČENI LETNI PRIHRANEK SKUPAJ v € | C87: =C70+C80+C84 -> 0
A88: SKUPAJ neto sedanja vrednost prihranka v € | C88: =C107 -> 0
A90: Izračun neto sedanje vrednosti:
A91: leto | B91: NSV | C91: SKUPAJ
A92: 1 | B92: =$C$87 -> 0 | C92: =B92/(1+$B$109)^A92 -> 0
A93: 2 | B93: =$C$87 -> 0 | C93: =B93/(1+$B$109)^A93 -> 0
A94: 3 | B94: =$C$87 -> 0 | C94: =B94/(1+$B$109)^A94 -> 0
A95: 4 | B95: =$C$87 -> 0 | C95: =B95/(1+$B$109)^A95 -> 0
A96: 5 | B96: =$C$87 -> 0 | C96: =B96/(1+$B$109)^A96 -> 0
A97: 6 | B97: =$C$87 -> 0 | C97: =B97/(1+$B$109)^A97 -> 0
A98: 7 | B98: =$C$87 -> 0 | C98: =B98/(1+$B$109)^A98 -> 0
A99: 8 | B99: =$C$87 -> 0 | C99: =B99/(1+$B$109)^A99 -> 0
A100: 9 | B100: =$C$87 -> 0 | C100: =B100/(1+$B$109)^A100 -> 0
A101: 10 | B101: =$C$87 -> 0 | C101: =B101/(1+$B$109)^A101 -> 0
A102: 11 | B102: =$C$87 -> 0 | C102: =B102/(1+$B$109)^A102 -> 0
A103: 12 | B103: =$C$87 -> 0 | C103: =B103/(1+$B$109)^A103 -> 0
... A106: 15 | B106: =$C$87 -> 0 | C106: =B106/(1+$B$109)^A106 -> 0
A107: SKUPAJ NSV: | C107: =SUM(C92:C106) -> 0
A109: diskontna stopnja | B109: 0.04
A111: Predvidena struktura proizvodnje toplote iz posameznega energenta po izvedenih ukrepih:
A113: Vir dovedene energije za toploto | B113: Delež skupaj proizvedene toplote iz energenta | C113: Količina toplote (kWh) | D113: Količina dovedene energije (kWh) | E113: Cena dovedene energije (€/kWh)
A114: El. energija za toplotne črpalke | C114: =B114*$C$61 -> 0
A115: Utekočinjeni naftni plin | C115: =B115*$C$61 -> 0
A116: Ekstra lahko kurilno olje | C116: =B116*$C$61 -> 0
A117: Biomasa | C117: =B117*$C$61 -> 0
A118: Zemeljski plin | C118: =B118*$C$61 -> 0
A119: Daljinsko ogrevanje / Pogodbena oskrba z energijo | C119: =B119*$C$61 -> 0
A120: Sprejemniki sončne energije (kolektorji) | C120: =B120*$C$61 -> 0
A121: SKUPAJ | B121: =SUM(B114:B120) -> 0 | C121: =SUM(C114:C120) -> 0 | D121: =SUM(D114:D120) -> 0
A123: Izhodišča za normalizacijo ukrepov | B123: Ocenjene obratovalne ure naprav | C123: Normalizirane obratovalne ure naprav
A124: Prezračevanje z rekuperacijo | B124: 0
...

Sheet OB02
A1: Pogodbeno zagotavljanje prihrankov
A3: Osnovni podatki o objektu
A4: Objekt: | B4: =INDEX('Referenčne količine'!$C$4:$C$6,MATCH('OB02'!B6,'Referenčne količine'!$B$4:$B$6,0)) -> Ekonomska šola
A5: Naslov: | B5: =INDEX('Referenčne količine'!$D$4:$D$6,MATCH('OB01'!B6,'Referenčne količine'!$B$4:$B$6,0)) -> Erjavčeva ulica 4a, 5000 Nova Gorica
A6: Oznaka | B6: OB02
A7: Neto površina m2: | B7: =INDEX('Referenčne količine'!$G$4:$G$6,MATCH('OB02'!B6,'Referenčne količine'!$B$4:$B$6,0)) -> 5267
A8: Tip energenta 1: | B8: =INDEX('Referenčne količine'!$P$4:$P$6,MATCH('OB02'!B6,'Referenčne količine'!$B$4:$B$6,0)) -> DO
A9: Tip energenta 2: | B9: =INDEX('Referenčne količine'!$W$4:$W$6,MATCH('OB02'!B6,'Referenčne količine'!$B$4:$B$6,0)) -> 0
A10: Tip energenta 3: | B10: =INDEX('Referenčne količine'!$AD$4:$AD$6,MATCH('OB02'!B6,'Referenčne količine'!$B$4:$B$6,0)) -> 0
A12: Referenčna letna raba in stroški energije, stroški vzdrževanja
A13: Vrsta energije | B13: Referenčna poraba/strošek | C13: Prilagojena referenčna poraba/strošek
A14: Referenčna poraba dovedene energije skupaj (kWh) | B14: =INDEX('Referenčne količine'!$AK$4:$AK$6,MATCH('OB02'!$B$6,'Referenčne količine'!$B$4:$B$6,0)) -> 355153 | C14: =INDEX('Referenčne količine'!$AS$4:$AS$6,MATCH('OB02'!$B$6,'Referenčne količine'!$B$4:$B$6,0)) -> 355153
A15: Raba toplote skupaj (kWh) | B15: =INDEX('Referenčne količine'!$AM$4:$AM$6,MATCH('OB02'!$B$6,'Referenčne količine'!$B$4:$B$6,0)) -> 355153 | C15: =INDEX('Referenčne količine'!$AT$4:$AT$6,MATCH('OB02'!$B$6,'Referenčne količine'!$B$4:$B$6,0)) -> 355153
A16: - toplota za ogrevanje (kWh) | B16: =INDEX('Referenčne količine'!$AO$4:$AO$6,MATCH('OB02'!$B$6,'Referenčne količine'!$B$4:$B$6,0)) -> 319637.7 | C16: =INDEX('Referenčne količine'!$AW$4:$AW$6,MATCH('OB02'!$B$6,'Referenčne količine'!$B$4:$B$6,0)) -> 319637.7
A17: - toplota za toplo sanitarno vodo (kWh) | B17: =INDEX('Referenčne količine'!$AP$4:$AP$6,MATCH('OB01'!$B$6,'Referenčne količine'!$B$4:$B$6,0)) -> 40337.68 | C17: =INDEX('Referenčne količine'!$AX$4:$AX$6,MATCH('OB02'!$B$6,'Referenčne količine'!$B$4:$B$6,0)) -> 35515.3
A18: - toplota za mehansko prezračevanje (kWh) | B18: =INDEX('Referenčne količine'!$AQ$4:$AQ$6,MATCH('OB02'!$B$6,'Referenčne količine'!$B$4:$B$6,0)) -> 0 | C18: =INDEX('Referenčne količine'!$AY$4:$AY$6,MATCH('OB02'!$B$6,'Referenčne količine'!$B$4:$B$6,0)) -> 0
A19: Strošek toplote skupaj (€) | B19: =INDEX('Referenčne količine'!$AL$4:$AL$6,MATCH('OB02'!$B$6,'Referenčne količine'!$B$4:$B$6,0)) -> 99187.13 | C19: =INDEX('Referenčne količine'!$AV$4:$AV$6,MATCH('OB02'!$B$6,'Referenčne količine'!$B$4:$B$6,0)) -> 99187.13
A20: Cena toplote (€/kWh) | B20: =INDEX('Referenčne količine'!$AN$4:$AN$6,MATCH('OB02'!$B$6,'Referenčne količine'!$B$4:$B$6,0)) -> 0.27928 | C20: =INDEX('Referenčne količine'!$AN$4:$AN$6,MATCH('OB02'!$B$6,'Referenčne količine'!$B$4:$B$6,0)) -> 0.27928
A21: Referenčna raba električne energije skupaj (kWh) | B21: =INDEX('Referenčne količine'!$AZ$4:$AZ$6,MATCH('OB02'!$B$6,'Referenčne količine'!$B$4:$B$6,0)) -> 98168 | C21: =INDEX('Referenčne količine'!$BF$4:$BF$6,MATCH('OB02'!$B$6,'Referenčne količine'!$B$4:$B$6,0)) -> 98168
A22: - električna energija za razsvetljavo (kWh) | B22: =INDEX('Referenčne količine'!$BC$4:$BC$6,MATCH('OB02'!$B$6,'Referenčne količine'!$B$4:$B$6,0)) -> 77664 | C22: =INDEX('Referenčne količine'!$BH$4:$BH$6,MATCH('OB02'!$B$6,'Referenčne količine'!$B$4:$B$6,0)) -> 77664
A23: - električna energija za ostalo (kWh) | B23: =INDEX('Referenčne količine'!$BD$4:$BD$6,MATCH('OB02'!$B$6,'Referenčne količine'!$B$4:$B$6,0)) -> 20504 | C23: =INDEX('Referenčne količine'!$BI$4:$BI$6,MATCH('OB02'!$B$6,'Referenčne količine'!$B$4:$B$6,0)) -> 20504
A24: Strošek električne energije skupaj (€) | B24: =INDEX('Referenčne količine'!$BA$4:$BA$6,MATCH('OB02'!$B$6,'Referenčne količine'!$B$4:$B$6,0)) -> 14725.2 | C24: =INDEX('Referenčne količine'!$BG$4:$BG$6,MATCH('OB02'!$B$6,'Referenčne količine'!$B$4:$B$6,0)) -> 14725.2
A25: Cena električne energije (€/kWh) | B25: =INDEX('Referenčne količine'!$BB$4:$BB$6,MATCH('OB01'!$B$6,'Referenčne količine'!$B$4:$B$6,0)) -> 0.15 | C25: =INDEX('Referenčne količine'!$BB$4:$BB$6,MATCH('OB02'!$B$6,'Referenčne količine'!$B$4:$B$6,0)) -> 0.15
A26: Strošek tekočega in investicijskega vzdrževanja (€) | B26: =INDEX('Referenčne količine'!$BK$4:$BK$6,MATCH('OB02'!$B$6,'Referenčne količine'!$B$4:$B$6,0)) -> 10874
F27: =VALUE(RIGHT(CELL("filename",A1),2)) -> 2
A28: Seznam predvidenih ukrepov | B28: Ukrepi JZP Upravičeni stroški | C28: Ukrepi JZP Neupravičeni stroški | D28: Ukrepi JN Upravičeni stroški | E28: Ukrepi JN Neupravičeni stroški
F29: 1
F30: =F29+1 -> 2
F31: =F30+1 -> 3
F32: =F31+1 -> 4
F33: =F32+1 -> 5
F34: =F33+1 -> 6
F35: =F34+1 -> 7
F36: =F35+1 -> 8
F37: =F36+1 -> 9
F38: =F37+1 -> 10
F39: =F38+1 -> 11
F40: =F39+1 -> 12
F41: =F40+1 -> 13
... F53: =F52+1 -> 25
A55: Investicijska vrednost ukrepov JZP brez DDV
A56: DDV (22%) | B56: =B55*0.22 -> 0
A57: Skupna investicijska vrednost JZP z DDV | B57: =B56+B55 -> 0
A59: Novopričakovana letna raba in prihranki - toplota
A60: Novopričakovana dejanska raba dovedene energije v kWh
A61: Novopričakovana dejanska raba toplote v kWh:
A62: - toplota za ogrevanje (kWh)
A63: - toplota za toplo sanitarno vodo (kWh)
A64: - toplota za mehansko prezračevanje (kWh)
A65: Nova cena toplote v €/kWh:
A66: Zajamčeni dejanski prihranek dovedene energije v kWh: | C66: =ROUND(IF(C60=0, 0,C14- C60),0) -> 0
A67: Zajamčeni dejanski prihranek toplote v kWh: | C67: =ROUND(IF(C61=0, 0,C15- C61),0) -> 0
A68: Dodatni normalizirani prihranek toplote v kWh: | C68: 0
A69: Novopričakovan letni dejanski strošek toplote v € : | C69: =C65*C61 -> 0
A70: Zajamčeni in normalizirani prihranek ter prihranek v ceni toplote v €: | C70: =(C67+C68)*C20+C61*(C20-C65) -> 0
A71: Zajamčeni in normalizirani prihranek toplote v % | C71: =(C67+C68)/C15 -> 0
A73: Novopričakovana raba električne energije v kWh:
A74: - električna energija za razsvetljavo (kWh)
A75: - električna energija za ostalo (kWh)
A76: Cena električne energije v €/kWh:
A77: Zajamčeni prihranek električne energije v kWh: | C77: =ROUND(IF(C73=0,0,C21-C73),0) -> 0
A78: Dodatni normalizirani prihranek električne energije v kWh: | C78: 0
A79: Novopričakovan letni dejanski strošek električne energije v € : | C79: =C73*C76 -> 0
A80: Zajamčeni in normalizirani prihranek ter prihranek v ceni el. energije v €: | C80: =(C77+C78)*C25+C73*(C25-C76) -> 0
A81: Zajamčeni in normalizirani prihranek električne energije v %: | C81: =(C77+C78)/C21 -> 0
A83: Novopričakovani strošek tekočega in investicijskega vzdrževanja v €: | C83: 0
A84: Zajamčeni prihranek stroškov tekočega in investicijskega vzdrževanja v €: | C84: 0
A85: Zajamčeni prihranek stroškov tekočega in investicijskega vzdrževanja v %: | C85: =IF(B26>0,C84/B26,0) -> 0
A87: ZAJAMČENI LETNI PRIHRANEK SKUPAJ v € | C87: =C70+C80+C84 -> 0
A88: SKUPAJ neto sedanja vrednost prihranka v € | C88: =C107 -> 0
A90: Izračun neto sedanje vrednosti:
A91: leto | B91: NSV | C91: SKUPAJ
A92: 1 | B92: =$C$87 -> 0 | C92: =B92/(1+$B$109)^A92 -> 0
A93: 2 | B93: =$C$87 -> 0 | C93: =B93/(1+$B$109)^A93 -> 0
A94: 3 | B94: =$C$87 -> 0 | C94: =B94/(1+$B$109)^A94 -> 0
A95: 4 | B95: =$C$87 -> 0 | C95: =B95/(1+$B$109)^A95 -> 0
A96: 5 | B96: =$C$87 -> 0 | C96: =B96/(1+$B$109)^A96 -> 0
A97: 6 | B97: =$C$87 -> 0 | C97: =B97/(1+$B$109)^A97 -> 0
A98: 7 | B98: =$C$87 -> 0 | C98: =B98/(1+$B$109)^A98 -> 0
A99: 8 | B99: =$C$87 -> 0 | C99: =B99/(1+$B$109)^A99 -> 0
A100: 9 | B100: =$C$87 -> 0 | C100: =B100/(1+$B$109)^A100 -> 0
A101: 10 | B101: =$C$87 -> 0 | C101: =B101/(1+$B$109)^A101 -> 0
A102: 11 | B102: =$C$87 -> 0 | C102: =B102/(1+$B$109)^A102 -> 0
A103: 12 | B103: =$C$87 -> 0 | C103: =B103/(1+$B$109)^A103 -> 0
... A106: 15 | B106: =$C$87 -> 0 | C106: =B106/(1+$B$109)^A106 -> 0
A107: SKUPAJ NSV: | C107: =SUM(C92:C106) -> 0
A109: diskontna stopnja | B109: 0.04
A111: Predvidena struktura proizvodnje toplote iz posameznega energenta po izvedenih ukrepih:
A113: Vir dovedene energije za toploto | B113: Delež skupaj proizvedene toplote iz energenta | C113: Količina toplote (kWh) | D113: Količina dovedene energije (kWh) | E113: Cena dovedene energije (€/kWh)
A114: El. energija za toplotne črpalke | C114: =B114*$C$61 -> 0
A115: Utekočinjeni naftni plin | C115: =B115*$C$61 -> 0
A116: Ekstra lahko kurilno olje | C116: =B116*$C$61 -> 0
A117: Biomasa | C117: =B117*$C$61 -> 0
A118: Zemeljski plin | C118: =B118*$C$61 -> 0
A119: Daljinsko ogrevanje / Pogodbena oskrba z energijo | C119: =B119*$C$61 -> 0
A120: Sprejemniki sončne energije (kolektorji) | C120: =B120*$C$61 -> 0
A121: SKUPAJ | B121: =SUM(B114:B120) -> 0 | C121: =SUM(C114:C120) -> 0 | D121: =SUM(D114:D120) -> 0
A123: Izhodišča za normalizacijo ukrepov | B123: Ocenjene obratovalne ure naprav | C123: Normalizirane obratovalne ure naprav
A124: Prezračevanje z rekuperacijo | B124: 0
A125: Vgradnja varčne razsvetljave | B125: 0

Sheet OB03
A1: Pogodbeno zagotavljanje prihrankov
A3: Osnovni podatki o objektu
A4: Objekt: | B4: =INDEX('Referenčne količine'!$C$4:$C$6,MATCH('OB03'!B6,'Referenčne količine'!$B$4:$B$6,0)) -> Elektrotehniška in računalniška šola
A5: Naslov: | B5: =INDEX('Referenčne količine'!$D$4:$D$6,MATCH('OB03'!B6,'Referenčne količine'!$B$4:$B$6,0)) -> Cankarjeva ulica 10, 5000 Nova Gorica
A6: Oznaka | B6: OB03
A7: Neto površina m2: | B7: =INDEX('Referenčne količine'!$G$4:$G$6,MATCH('OB03'!B6,'Referenčne količine'!$B$4:$B$6,0)) -> 2173.75
A8: Tip energenta 1: | B8: =INDEX('Referenčne količine'!$P$4:$P$6,MATCH('OB03'!B6,'Referenčne količine'!$B$4:$B$6,0)) -> DO
A9: Tip energenta 2: | B9: =INDEX('Referenčne količine'!$W$4:$W$6,MATCH('OB03'!B6,'Referenčne količine'!$B$4:$B$6,0))
A10: Tip energenta 3: | B10: =INDEX('Referenčne količine'!$AD$4:$AD$6,MATCH('OB03'!B6,'Referenčne količine'!$B$4:$B$6,0))
A12: Referenčna letna raba in stroški energije, stroški vzdrževanja
A13: Vrsta energije | B13: Referenčna poraba/strošek | C13: Prilagojena referenčna poraba/strošek
A14: Referenčna poraba dovedene energije skupaj (kWh) | B14: =INDEX('Referenčne količine'!$AK$4:$AK$6,MATCH('OB03'!$B$6,'Referenčne količine'!$B$4:$B$6,0)) -> 145003 | C14: =INDEX('Referenčne količine'!$AS$4:$AS$6,MATCH('OB03'!$B$6,'Referenčne količine'!$B$4:$B$6,0)) -> 145003
A15: Raba toplote skupaj (kWh) | B15: =INDEX('Referenčne količine'!$AM$4:$AM$6,MATCH('OB03'!$B$6,'Referenčne količine'!$B$4:$B$6,0)) -> 145003 | C15: =INDEX('Referenčne količine'!$AT$4:$AT$6,MATCH('OB03'!$B$6,'Referenčne količine'!$B$4:$B$6,0)) -> 145003
A16: - toplota za ogrevanje (kWh) | B16: =INDEX('Referenčne količine'!$AO$4:$AO$6,MATCH('OB03'!$B$6,'Referenčne količine'!$B$4:$B$6,0)) -> 145003 | C16: =INDEX('Referenčne količine'!$AW$4:$AW$6,MATCH('OB03'!$B$6,'Referenčne količine'!$B$4:$B$6,0)) -> 145003
A17: - toplota za toplo sanitarno vodo (kWh) | B17: =INDEX('Referenčne količine'!$AP$4:$AP$6,MATCH('OB03'!$B$6,'Referenčne količine'!$B$4:$B$6,0)) -> 0 | C17: =INDEX('Referenčne količine'!$AX$4:$AX$6,MATCH('OB03'!$B$6,'Referenčne količine'!$B$4:$B$6,0)) -> 0
A18: - toplota za mehansko prezračevanje (kWh) | B18: =INDEX('Referenčne količine'!$AQ$4:$AQ$6,MATCH('OB03'!$B$6,'Referenčne količine'!$B$4:$B$6,0)) -> 0 | C18: =INDEX('Referenčne količine'!$AY$4:$AY$6,MATCH('OB03'!$B$6,'Referenčne količine'!$B$4:$B$6,0)) -> 0
A19: Strošek toplote skupaj (€) | B19: =INDEX('Referenčne količine'!$AL$4:$AL$6,MATCH('OB03'!$B$6,'Referenčne količine'!$B$4:$B$6,0)) -> 40496.44 | C19: =INDEX('Referenčne količine'!$AV$4:$AV$6,MATCH('OB03'!$B$6,'Referenčne količine'!$B$4:$B$6,0)) -> 40496.44
A20: Cena toplote (€/kWh) | B20: =INDEX('Referenčne količine'!$AN$4:$AN$6,MATCH('OB03'!$B$6,'Referenčne količine'!$B$4:$B$6,0)) -> 0.27928001 | C20: =INDEX('Referenčne količine'!$AN$4:$AN$6,MATCH('OB03'!$B$6,'Referenčne količine'!$B$4:$B$6,0)) -> 0.27928001
A21: Referenčna raba električne energije skupaj (kWh) | B21: =INDEX('Referenčne količine'!$AZ$4:$AZ$6,MATCH('OB03'!$B$6,'Referenčne količine'!$B$4:$B$6,0)) -> 56510 | C21: =INDEX('Referenčne količine'!$BF$4:$BF$6,MATCH('OB03'!$B$6,'Referenčne količine'!$B$4:$B$6,0)) -> 56510
A22: - električna energija za razsvetljavo (kWh) | B22: =INDEX('Referenčne količine'!$BC$4:$BC$6,MATCH('OB03'!$B$6,'Referenčne količine'!$B$4:$B$6,0)) -> 41760 | C22: =INDEX('Referenčne količine'!$BH$4:$BH$6,MATCH('OB03'!$B$6,'Referenčne količine'!$B$4:$B$6,0)) -> 41760
A23: - električna energija za ostalo (kWh) | B23: =INDEX('Referenčne količine'!$BD$4:$BD$6,MATCH('OB03'!$B$6,'Referenčne količine'!$B$4:$B$6,0)) -> 14750 | C23: =INDEX('Referenčne količine'!$BI$4:$BI$6,MATCH('OB03'!$B$6,'Referenčne količine'!$B$4:$B$6,0)) -> 14750
A24: Strošek električne energije skupaj (€) | B24: =INDEX('Referenčne količine'!$BA$4:$BA$6,MATCH('OB03'!$B$6,'Referenčne količine'!$B$4:$B$6,0)) -> 8476.5 | C24: =INDEX('Referenčne količine'!$BG$4:$BG$6,MATCH('OB03'!$B$6,'Referenčne količine'!$B$4:$B$6,0)) -> 8476.5
A25: Cena električne energije (€/kWh) | B25: =INDEX('Referenčne količine'!$BB$4:$BB$6,MATCH('OB03'!$B$6,'Referenčne količine'!$B$4:$B$6,0)) -> 0.15 | C25: =INDEX('Referenčne količine'!$BB$4:$BB$6,MATCH('OB03'!$B$6,'Referenčne količine'!$B$4:$B$6,0)) -> 0.15
A26: Strošek tekočega in investicijskega vzdrževanja (€) | B26: =INDEX('Referenčne količine'!$BK$4:$BK$6,MATCH('OB03'!$B$6,'Referenčne količine'!$B$4:$B$6,0)) -> 4207
F27: =VALUE(RIGHT(CELL("filename",A1),2)) -> 3
A28: Seznam predvidenih ukrepov | B28: Ukrepi JZP Upravičeni stroški | C28: Ukrepi JZP Neupravičeni stroški | D28: Ukrepi JN Upravičeni stroški | E28: Ukrepi JN Neupravičeni stroški
F29: 1
F30: =F29+1 -> 2
F31: =F30+1 -> 3
F32: =F31+1 -> 4
F33: =F32+1 -> 5
F34: =F33+1 -> 6
F35: =F34+1 -> 7
F36: =F35+1 -> 8
F37: =F36+1 -> 9
F38: =F37+1 -> 10
F39: =F38+1 -> 11
F40: =F39+1 -> 12
F41: =F40+1 -> 13
... F53: =F52+1 -> 25
A54: Skupaj stroški | B54: =SUM(B29:B53) -> 0 | C54: =SUM(C29:C53) -> 0 | D54: =SUM(D29:D53) -> 0 | E54: =SUM(E29:E53) -> 0
A55: Investicijska vrednost ukrepov JZP brez DDV
A56: DDV (22%) | B56: =B55*0.22 -> 0
A57: Skupna investicijska vrednost JZP z DDV | B57: =B56+B55 -> 0
A59: Novopričakovana letna raba in prihranki - toplota
A60: Novopričakovana dejanska raba dovedene energije v kWh
A61: Novopričakovana dejanska raba toplote v kWh:
A62: - toplota za ogrevanje (kWh)
A63: - toplota za toplo sanitarno vodo (kWh)
A64: - toplota za mehansko prezračevanje (kWh)
A65: Nova cena toplote v €/kWh:
A66: Zajamčeni dejanski prihranek dovedene energije v kWh: | C66: =ROUND(IF(C60=0, 0,C14- C60),0) -> 0
A67: Zajamčeni dejanski prihranek toplote v kWh: | C67: =ROUND(IF(C61=0, 0,C15- C61),0) -> 0
A68: Dodatni normalizirani prihranek toplote v kWh: | C68: 0
A69: Novopričakovan letni dejanski strošek toplote v € : | C69: =C65*C61 -> 0
A70: Zajamčeni in normalizirani prihranek ter prihranek v ceni toplote v €: | C70: =(C67+C68)*C20+C61*(C20-C65) -> 0
A71: Zajamčeni in normalizirani prihranek toplote v % | C71: =(C67+C68)/C15 -> 0
A73: Novopričakovana raba električne energije v kWh:
A74: - električna energija za razsvetljavo (kWh)
A75: - električna energija za ostalo (kWh)
A76: Cena električne energije v €/kWh:
A77: Zajamčeni prihranek električne energije v kWh: | C77: =ROUND(IF(C73=0,0,C21-C73),0) -> 0
A78: Dodatni normalizirani prihranek električne energije v kWh: | C78: 0
A79: Novopričakovan letni dejanski strošek električne energije v € : | C79: =C73*C76 -> 0
A80: Zajamčeni in normalizirani prihranek ter prihranek v ceni el. energije v €: | C80: =(C77+C78)*C25+C73*(C25-C76) -> 0
A81: Zajamčeni in normalizirani prihranek električne energije v %: | C81: =(C77+C78)/C21 -> 0
A83: Novopričakovani strošek tekočega in investicijskega vzdrževanja v €: | C83: 0
A84: Zajamčeni prihranek stroškov tekočega in investicijskega vzdrževanja v €: | C84: 0
A85: Zajamčeni prihranek stroškov tekočega in investicijskega vzdrževanja v %: | C85: =IF(B26>0,C84/B26,0) -> 0
A87: ZAJAMČENI LETNI PRIHRANEK SKUPAJ v € | C87: =C70+C80+C84 -> 0
A88: SKUPAJ neto sedanja vrednost prihranka v € | C88: =C107 -> 0
A90: Izračun neto sedanje vrednosti:
A91: leto | B91: NSV | C91: SKUPAJ
A92: 1 | B92: =$C$87 -> 0 | C92: =B92/(1+$B$109)^A92 -> 0
A93: 2 | B93: =$C$87 -> 0 | C93: =B93/(1+$B$109)^A93 -> 0
A94: 3 | B94: =$C$87 -> 0 | C94: =B94/(1+$B$109)^A94 -> 0
A95: 4 | B95: =$C$87 -> 0 | C95: =B95/(1+$B$109)^A95 -> 0
A96: 5 | B96: =$C$87 -> 0 | C96: =B96/(1+$B$109)^A96 -> 0
A97: 6 | B97: =$C$87 -> 0 | C97: =B97/(1+$B$109)^A97 -> 0
A98: 7 | B98: =$C$87 -> 0 | C98: =B98/(1+$B$109)^A98 -> 0
A99: 8 | B99: =$C$87 -> 0 | C99: =B99/(1+$B$109)^A99 -> 0
A100: 9 | B100: =$C$87 -> 0 | C100: =B100/(1+$B$109)^A100 -> 0
A101: 10 | B101: =$C$87 -> 0 | C101: =B101/(1+$B$109)^A101 -> 0
A102: 11 | B102: =$C$87 -> 0 | C102: =B102/(1+$B$109)^A102 -> 0
A103: 12 | B103: =$C$87 -> 0 | C103: =B103/(1+$B$109)^A103 -> 0
... A106: 15 | B106: =$C$87 -> 0 | C106: =B106/(1+$B$109)^A106 -> 0
A107: SKUPAJ NSV: | C107: =SUM(C92:C106) -> 0
A109: diskontna stopnja | B109: 0.04
A111: Predvidena struktura proizvodnje toplote iz posameznega energenta po izvedenih ukrepih:
A113: Vir dovedene energije za toploto | B113: Delež skupaj proizvedene toplote iz energenta | C113: Količina toplote (kWh) | D113: Količina dovedene energije (kWh) | E113: Cena dovedene energije (€/kWh)
A114: El. energija za toplotne črpalke
A115: Utekočinjeni naftni plin
A116: Ekstra lahko kurilno olje
A117: Biomasa
A118: Zemeljski plin
A119: Daljinsko ogrevanje / Pogodbena oskrba z energijo
A120: Sprejemniki sončne energije (kolektorji)
A121: SKUPAJ | B121: =SUM(B114:B120) -> 0 | C121: =SUM(C114:C120) -> 0 | D121: =SUM(D114:D120) -> 0
A123: Izhodišča za normalizacijo ukrepov | B123: Ocenjene obratovalne ure naprav | C123: Normalizirane obratovalne ure naprav
A124: Prezračevanje z rekuperacijo
...

Sheet SKUPAJ
A1: Pogodbeno zagotavljanje prihrankov - Ukrepi skupaj
M2: C | N2: C | O2: C | P2: C
C3: zajamčeni prihranek toplote | F3: zajamčeni prihranek električne energije | I3: zajamčeni prihranek vzdrževanja | J3: ZAJAMČENI PRIHRANEK SKUPAJ € brez DDV | K3: Neto sedanja vrednost prihrankov € brez DDV | L3: Vrednost investicijskih ukrepov JZP v € brez DDV | M3: 43 | N3: 46 | O3: 47 | P3: 48
A4: št. | B4: id | C4: kWh | D4: % | E4: € brez DDV | F4: kWh | G4: % | H4: € brez DDV | I4: € brez DDV
A5: 1 | B5: OB01 | C5: {=INDIRECT($B5&"!C67")+INDIRECT($B5&"!C68")} -> 0 | D5: {=INDIRECT($B5&"!C71")} -> 0 | E5: =INDIRECT($B5&"!C70") -> 0 | F5: {=INDIRECT($B5&"!C77")+INDIRECT($B5&"!C78")} -> 0 | G5: {=INDIRECT($B5&"!C81")} -> 0 | H5: =INDIRECT($B5&"!C80") -> 0 | I5: {=INDIRECT($B5&"!C84")} -> 0 | J5: =E5+H5+I5 -> 0 | K5: {=INDIRECT($B5&"!C88")} -> 0 | L5: {=INDIRECT($B5&"!b55")} -> 0 | M5: ="'"&B5&"'"&"!"&M$2&M$3 -> 'OB01'!C43 | N5: ="'"&$B5&"'"&"!"&N$2&N$3 -> 'OB01'!C46 | O5: ="'"&$B5&"'"&"!"&O$2&O$3 -> 'OB01'!C47 | P5: ="'"&$B5&"'"&"!"&P$2&P$3 -> 'OB01'!C48
A6: 2 | B6: OB02 | C6: {=INDIRECT($B6&"!C67")+INDIRECT($B6&"!C68")} -> 0 | D6: {=INDIRECT($B6&"!C71")} -> 0 | E6: =INDIRECT($B6&"!C70") -> 0 | F6: {=INDIRECT($B6&"!C77")+INDIRECT($B6&"!C78")} -> 0 | G6: {=INDIRECT($B6&"!C81")} -> 0 | H6: {=INDIRECT($B6&"!C80")} -> 0 | I6: {=INDIRECT($B6&"!C84")} -> 0 | J6: =E6+H6+I6 -> 0 | K6: {=INDIRECT($B6&"!C88")} -> 0 | L6: {=INDIRECT($B6&"!b55")} -> 0
A7: 3 | B7: OB03 | C7: {=INDIRECT($B7&"!C67")+INDIRECT($B7&"!C68")} -> 0 | D7: {=INDIRECT($B7&"!C71")} -> 0 | E7: =INDIRECT($B7&"!C70") -> 0 | F7: {=INDIRECT($B7&"!C77")+INDIRECT($B7&"!C78")} -> 0 | G7: {=INDIRECT($B7&"!C81")} -> 0 | H7: {=INDIRECT($B7&"!C80")} -> 0 | I7: {=INDIRECT($B7&"!C84")} -> 0 | J7: =E7+H7+I7 -> 0 | K7: {=INDIRECT($B7&"!C88")} -> 0 | L7: {=INDIRECT($B7&"!b55")} -> 0 | M7: ="'"&B7&"'"&"!"&M$2&M$3 -> 'OB03'!C43 | N7: ="'"&$B7&"'"&"!"&N$2&N$3 -> 'OB03'!C46 | O7: ="'"&$B7&"'"&"!"&O$2&O$3 -> 'OB03'!C47 | P7: ="'"&$B7&"'"&"!"&P$2&P$3 -> 'OB03'!C48
A8: SKUPAJ | C8: =SUM(C5:C7) -> 0 | D8: =AVERAGE(D5:D7) -> 0 | E8: =SUM(E5:E7) -> 0 | F8: =SUM(F5:F7) -> 0 | G8: =AVERAGE(G5:G7) -> 0 | H8: =SUM(H5:H7) -> 0 | I8: =SUM(I5:I7) -> 0 | J8: =SUM(J5:J7) -> 0 | K8: =SUM(K5:K7) -> 0 | L8: =SUM(L5:L7) -> 0

Sheet VZOREC OBRAČUNA
A1: OBRAČUN PRIHRANKOV NA OBJEKTU | W1: Sklop:
W2: Objekt:
B3: ID OBJEKTA | G3: Sklop: | J3: OBRAČUNSKO OBDOBJE | P3: PROJEKT
B4: NAZIV OBJEKTA
J5: STATUS OBRAČUNA | P5: NAROČNIK
B6: NASLOV
P8: POGODBA
B9: REKAPITULACIJA
C10: POGODBENE VREDNOSTI ZA REFERENČNO OBDOBJE | F10: IZHODIŠČNE VREDNOSTI ZA OBRAČUNSKO OBDOBJE | I10: OBRAČUNSKE VREDNOSTI V OBRAČUNSKEM OBDOBJU | L10: RAZLIKA MED DOSEŽENIM IN ZAJAMČENIM PRIHRANKOM V OBRAČUNSKEM OBDOBJU
C11: ZAJAMČENI PRIHRANEK | F11: ZAJAMČENI PRIHRANEK | I11: DOSEŽENI PRIHRANEK | L11: PRIHRANEK
C12: kWh | D12: € | E12: % | F12: kWh | G12: € | H12: % | I12: kWh | J12: € | K12: % | L12: kWh | M12: € | N12: bonus/malus
B13: TOPLOTA | C13: =SUM(M42:O42) -> #DIV/0! | D13: =S42 -> #DIV/0! | E13: =D13/I33 -> #DIV/0! | F13: =SUM(M62:O62) -> #DIV/0! | G13: =S62 -> #DIV/0! | H13: =S62/I53 -> #DIV/0! | I13: =SUM(G81:I81) -> #DIV/0! | J13: =M81 -> #DIV/0! | K13: =M81/I53 -> #DIV/0! | L13: =I13-F13 -> #DIV/0! | M13: =ROUND(J13-G13,2) -> #DIV/0! | N13: =IF(M13>0,"BONUS",IF(M13<0,"MALUS","-")) -> #DIV/0!
B14: ELEKTRIKA | C14: =SUM(K92:M92) -> 0 | D14: =Q92 -> 0 | E14: =Q92/G92 -> #DIV/0! | F14: =SUM(K100:M100) -> 0 | G14: =Q100 -> 0 | H14: =Q100/G100 -> #DIV/0! | I14: =SUM(N108:P108) -> 0 | J14: =T108 -> 0 | K14: =T108/G100 -> #DIV/0! | L14: =I14-F14 -> 0 | M14: =ROUND(J14-G14,2) -> 0 | N14: =IF(M14>0,"BONUS",IF(M14<0,"MALUS","-")) -> -
B15: VZDRŽEVANJE | C15: 0 | D15: =E118 -> 0 | E15: =E118/C118 -> #DIV/0! | F15: 0 | G15: =L118 -> 0 | H15: =L118/J117 -> #DIV/0! | I15: 0 | J15: =R118 -> 0 | K15: =R118/P117 -> #DIV/0! | L15: =I15-F15 -> 0 | M15: =ROUND(J15-G15,2) -> 0 | N15: =IF(M15>0,"BONUS",IF(M15<0,"MALUS","-")) -> -
B16: SKUPAJ | C16: =SUM(C13:C15) -> #DIV/0! | D16: =SUM(D13:D15) -> #DIV/0! | E16: =AVERAGE(E13:E15) -> #DIV/0! | F16: =SUM(F13:F15) -> #DIV/0! | G16: =SUM(G13:G15) -> #DIV/0! | H16: =AVERAGE(H13:H15) -> #DIV/0! | I16: =SUM(I13:I15) -> #DIV/0! | J16: =SUM(J13:J15) -> #DIV/0! | K16: =AVERAGE(K13:K15) -> #DIV/0! | L16: =SUM(L13:L15) -> #DIV/0! | M16: =SUM(M13:M15) -> #DIV/0! | N16: =IF(M13>0,"BONUS",IF(M13<0,"MALUS","-")) -> #DIV/0!
A19: I. TOPLOTA
C21: Referenčno obdobje: | H21: Izhodiščno obračunsko obdobje: | M21: Dejansko obračunsko obdobje
C22: Podnebna postaja: | H22: Izhodiščni DTP v primerljivem ref. obdobju | M22: Izhodiščni DTP v obračunskem obdobju
C23: Pogodbeni DTP v ref. obdobju: | H23: Razmerje DTP primerljivo/ pogododbeno obdobje | I23: =IFERROR(I22/D23,"-") -> - | M23: Faktor DTP za obdobje | N23: =I22/N22 -> #DIV/0!
A25: POGODBENE REFERENCE | B25: A. POGODBENE VREDNOSTI ZA REFERENČNO OBDOBJE
B26: Metoda izračuna prihrankov | C26: Vrsta rabe toplote | E26: Referenčna raba toplote (prilagojena) | F26: Referenčna cena toplote | G26: Referenčna dovedena energija (prilagojena) | H26: Cena dovedene energije | I26: Referenčni strošek dovedene energije za toploto | J26: Novopričakovana raba dovedene energije
J27: ELEKTRIČNA ENERGIJA | L27: UTEKOČINJENI NAFTNI PLIN | N27: EKSTRA LAHKO KURILNO OLJE | P27: BIOMASA | R27: ZEMELJSKI PLIN | T27: DALJINSKO OGREVANJE | V27: SKUPAJ
J28: raba dovedene energije | K28: referenčna cena | L28: raba dovedene energije | M28: referenčna cena | N28: raba dovedene energije | O28: referenčna cena | P28: raba dovedene energije | Q28: referenčna cena | R28: raba dovedene energije | S28: referenčna cena | T28: raba dovedene energije | U28: referenčna cena | V28: raba dovedene energije
E29: kWh | F29: €/kWh | G29: kWh | H29: €/kWh | I29: € | J29: kWh | K29: €/kWh | L29: kWh | M29: €/kWh | N29: kWh | O29: €/kWh | P29: kWh | Q29: €/kWh | R29: kWh | S29: €/kWh | T29: kWh | U29: €/kWh | V29: kWh
B30: Merjeni | C30: OGREVANJE | G30: =G33*E30/E33 -> #DIV/0! | H30: =ROUND(F30*E33/G33,5) -> #DIV/0! | I30: =ROUND(E30*F30,2) -> 0 | L30: 0 | M30: 0 | P30: 0 | Q30: 0 | T30: 0 | U30: 0 | V30: =J30+L30+N30+P30+R30+T30 -> 0
B31: Merjeni | C31: SANITARNA TOPLA VODA | G31: =G33*E31/E33 -> #DIV/0! | I31: =ROUND(E31*F30,2) -> 0
B32: Normirani | C32: OSTALO - PRISILNO PREZRAČEVANJE | G32: =G33*E32/E33 -> #DIV/0! | I32: =ROUND(E32*F30,2) -> 0
B33: SKUPAJ | E33: =SUM(E30:E32) -> 0 | I33: =SUM(I30:I32) -> 0 | J33: =SUM(J30:J32) -> 0 | L33: =SUM(L30:L32) -> 0 | N33: =SUM(N30:N32) -> 0 | P33: =SUM(P30:P32) -> 0 | R33: =SUM(R30:R32) -> 0 | T33: =SUM(T30:T32) -> 0 | V33: =SUM(V30) -> 0
B35: Metoda izračuna prihrankov | C35: Vrsta rabe toplote | E35: Zajamčeni prihranki
E37: nova cena toplote | F37: novopričakovana dejanska raba toplote (izhodiščne vrednosti) | G37: nova cena dovedene energije | H37: novopričakovana dejanska raba dovedene energije | I37: nov strošek dovedene energije | J37: dejanski merjeni prihranek toplote | K37: dejanski normirani prihranek toplote | L37: dodatni normirani prihranek toplote | M37: dejanski merjeni prihranek dovedene energije | N37: dejanski normirani prihranek dovedene energije | O37: dodatni normirani prihranek dovedene energije | P37: dejanski merjeni prihranek | Q37: dejanski normirani prihranek | R37: dodatni normirani prihranek | S37: Skupaj zajamčeni prihranki
E38: €/kWh | F38: kWh | G38: €/kWh | H38: kWh | I38: € | J38: kWh | K38: kWh | L38: kWh | M38: kWh | N38: kWh | O38: kWh | P38: € | Q38: € | R38: € | S38: €
B39: Merjeni | C39: OGREVANJE | E39: =ROUND(((J30*K30)+(L30*M30)+(N30*O30)+(P30*Q30)+(R30*S30)+(T30*U30))/F42,5) -> #DIV/0! | G39: =ROUND(((J30*K30)+(L30*M30)+(N30*O30)+(P30*Q30)+(R30*S30)+(T30*U30))/H42,5) -> #DIV/0! | H39: =ROUND(V30*F39/F42,1) -> #DIV/0! | I39: =ROUND(G39*H39,2) -> #DIV/0! | J39: =E30-F39 -> 0 | M39: =G30-H39 -> #DIV/0! | P39: =I30-I39 -> #DIV/0! | S39: =SUM(P39:R39) -> #DIV/0!
B40: Merjeni | C40: SANITARNA TOPLA VODA | H40: =ROUND(V30*F40/F42,1) -> #DIV/0! | I40: =ROUND(G39*H40,2) -> #DIV/0! | J40: =E31-F40 -> 0 | M40: =G31-H40 -> #DIV/0! | P40: =I31-I40 -> #DIV/0! | S40: =SUM(P40:R40) -> #DIV/0!
B41: Normirani | C41: OSTALO - PRISILNO PREZRAČEVANJE | H41: =ROUND(V30*F41/F42,1) -> #DIV/0! | I41: =ROUND(G39*H41,2) -> #DIV/0! | J41: 0 | K41: =E32-F41 -> 0 | M41: 0 | N41: =G32-H41 -> #DIV/0! | O41: =IFERROR(L41*N41/K41,0) -> 0 | P41: =F41*(F30-E39) -> #DIV/0! | Q41: =K41*F30 -> 0 | R41: =L41*F30 -> 0 | S41: =ROUND(SUM(P41:R41),2) -> #DIV/0!
B42: SKUPAJ | F42: =SUM(F39:F41) -> 0 | H42: =SUM(H39:H41) -> #DIV/0! | I42: =SUM(I39:I41) -> #DIV/0! | J42: =SUM(J39:J41) -> 0 | K42: =SUM(K39:K41) -> 0 | L42: =SUM(L41) -> 0 | M42: =SUM(M39:M41) -> #DIV/0! | N42: =SUM(N39:N41) -> #DIV/0! | O42: =SUM(O41) -> 0 | P42: =SUM(P39:P41) -> #DIV/0! | Q42: =SUM(Q39:Q41) -> 0 | R42: =SUM(R39:R41) -> 0 | S42: =SUM(S39:S41) -> #DIV/0!
A45: OBRAČUNSKE REFERENCE | B45: B. IZHODIŠČNE VREDNOSTI ZA OBRAČUNSKO OBDOBJE
B46: Način izračuna prihrankov | C46: Vrsta rabe toplote | D46: Korekcijski faktor za obračunsko obdobje | E46: Referenčna raba toplote (prilagojena) | F46: Referenčna cena toplote | G46: Referenčna dovedena energija (prilagojena) | H46: Cena dovedene energije | I46: Referenčni strošek dovedene energije za toploto | J46: Novopričakovana raba dovedene energije
J47: ELEKTRIČNA ENERGIJA | L47: UTEKOČINJENI NAFTNI PLIN | N47: EKSTRA LAHKO KURILNO OLJE | P47: BIOMASA | R47: ZEMELJSKI PLIN | T47: DALJINSKO OGREVANJE | V47: SKUPAJ
J48: raba dovedene energije | K48: referenčna cena | L48: raba dovedene energije | M48: referenčna cena | N48: raba dovedene energije | O48: referenčna cena | P48: raba dovedene energije | Q48: referenčna cena | R48: raba dovedene energije | S48: referenčna cena | T48: raba dovedene energije | U48: referenčna cena | V48: raba dovedene energije
E49: kWh | F49: €/kWh | G49: kWh | H49: €/kWh | I49: € | J49: kWh | K49: €/kWh | L49: kWh | M49: €/kWh | N49: kWh | O49: €/kWh | P49: kWh | Q49: €/kWh | R49: kWh | S49: €/kWh | T49: kWh | U49: €/kWh | V49: kWh
B50: Merjeni | C50: =C30 -> OGREVANJE | E50: =E30*D50 -> 0 | F50: =F30 -> 0 | G50: =G30*D50 -> #DIV/0! | H50: =H30 -> #DIV/0! | I50: =ROUND(E50*F50,2) -> 0 | J50: =J30*$D50 -> 0 | K50: =K30 -> 0 | L50: =L30*$D50 -> 0 | M50: =M30 -> 0 | N50: =N30*$D50 -> 0 | O50: =O30 -> 0 | P50: =P30*$D50 -> 0 | Q50: =Q30 -> 0 | R50: =R30*$D50 -> 0 | S50: =S30 -> 0 | T50: =T30*$D50 -> 0 | U50: =U30 -> 0 | V50: =J50+L50+N50+P50+R50+T50 -> 0
B51: Merjeni | C51: =C31 -> SANITARNA TOPLA VODA | E51: =E31*D51 -> 0 | G51: =G31*D51 -> #DIV/0! | I51: =ROUND(E51*F50,2) -> 0
B52: Normirani | C52: =C32 -> OSTALO - PRISILNO PREZRAČEVANJE | E52: =E32*D52 -> 0 | G52: =G32*D52 -> #DIV/0! | I52: =ROUND(E52*F50,2) -> 0
B53: =B33 -> SKUPAJ | E53: =SUM(E50:E52) -> 0 | G53: =SUM(G50:G52) -> #DIV/0! | I53: =SUM(I50:I52) -> 0 | J53: =SUM(J50:J52) -> 0 | L53: =SUM(L50:L52) -> 0 | N53: =SUM(N50:N52) -> 0 | P53: =SUM(P50:P52) -> 0 | R53: =SUM(R50:R52) -> 0 | T53: =SUM(T50:T52) -> 0 | V53: =SUM(V50) -> 0
B55: Način izračuna prihrankov | C55: Vrsta rabe toplote | D55: Korekcijski faktor za obračunsko obdobje | E55: Zajamčeni prihranki
E57: nova cena toplote | F57: novopričakovana dejanska raba toplote (izhodiščne vrednosti) | G57: nova cena dovedene energije | H57: novopričakovana dejanska raba dovedene energije | I57: nov strošek dovedene energije | J57: dejanski merjeni prihranek toplote | K57: dejanski normirani prihranek toplote | L57: dodatni normirani prihranek toplote | M57: dejanski merjeni prihranek dovedene energije | N57: dejanski normirani prihranek dovedene energije | O57: dodatni normirani prihranek dovedene energije | P57: dejanski merjeni prihranek | Q57: dejanski normirani prihranek | R57: dodatni normirani prihranek | S57: Skupaj zajamčeni prihranki toplota
E58: €/kWh | F58: kWh | G58: €/kWh | H58: kWh | I58: € | J58: kWh | K58: kWh | L58: kWh | M58: kWh | N58: kWh | O58: kWh | P58: € | Q58: € | R58: € | S58: €
B59: Merjeni | C59: =C39 -> OGREVANJE | D59: =D50 -> 0 | E59: =E39 -> #DIV/0! | F59: =F39*$D50 -> 0 | G59: =G39 -> #DIV/0! | H59: =H39*$D50 -> #DIV/0! | I59: =ROUND(G59*H59,2) -> #DIV/0! | J59: =E50-F59 -> 0 | M59: =G50-H59 -> #DIV/0! | P59: =ROUND(I50-I59,2) -> #DIV/0! | S59: =SUM(P59:R59) -> #DIV/0!
B60: Merjeni | C60: =C40 -> SANITARNA TOPLA VODA | D60: =D51 -> 0 | F60: =F40*$D51 -> 0 | H60: =H40*$D51 -> #DIV/0! | I60: =ROUND(G59*H60,2) -> #DIV/0! | J60: =E51-F60 -> 0 | M60: =G51-H60 -> #DIV/0! | P60: =ROUND(I51-I60,2) -> #DIV/0! | S60: =SUM(P60:R60) -> #DIV/0!
B61: Normirani | C61: =C41 -> OSTALO - PRISILNO PREZRAČEVANJE | D61: =D52 -> 0 | F61: =F41*$D52 -> 0 | H61: =H41*$D52 -> #DIV/0! | I61: =ROUND(G59*H61,2) -> #DIV/0! | J61: =J41*$D50 -> 0 | K61: =E52-F61 -> 0 | L61: =L41*$D52 -> 0 | M61: 0 | N61: =G52-H61 -> #DIV/0! | O61: =IFERROR(L61*N61/K61,0) -> 0 | P61: =ROUND(F61*(F50-E59),2) -> #DIV/0! | Q61: =K61*F50 -> 0 | R61: =L61*F50 -> 0 | S61: =ROUND(SUM(P61:R61),2) -> #DIV/0!
B62: =B42 -> SKUPAJ | F62: =SUM(F59:F61) -> 0 | H62: =SUM(H59:H61) -> #DIV/0! | I62: =SUM(I59:I61) -> #DIV/0! | J62: =SUM(J59:J61) -> 0 | K62: =SUM(K59:K61) -> 0 | L62: =SUM(L61) -> 0 | M62: =SUM(M59:M61) -> #DIV/0! | N62: =SUM(N59:N61) -> #DIV/0! | O62: =SUM(O61) -> 0 | P62: =SUM(P59:P61) -> #DIV/0! | Q62: =SUM(Q59:Q61) -> 0 | R62: =SUM(R59:R61) -> 0 | S62: =SUM(S59:S61) -> #DIV/0!
A65: OBRAČUNSKE VREDNOSTI | B65: C. OBRAČUN V OBRAČUNSKEM OBDOBJU
B66: Način izračuna prihrankov | C66: Vrsta rabe toplote | D66: DEJANSKA NEPRILAGOJENA RABA DOVEDENE ENERGIJE | K66: PRILAGODITVE RABE ENERGIJE | O66: PRILAGOJENA RABA DOVEDENE ENERGIJE IN STROŠKI
D67: ELEKTRIČNA ENERGIJA ZA PRETVORBO | E67: UNP | F67: ELKO | G67: BIOMASA | H67: ZEMELJSKI PLIN | I67: DALJINSKO OGREVANJE | J67: SKUPAJ | K67: faktor DTP | L67: faktor upor.* udobje | M67: faktor upor.* št. uporabnikov | N67: skupni faktor prilagoditve | O67: ELEKTRIČNA ENERGIJA ZA PRETVORBO | P67: UNP | Q67: ELKO | R67: BIOMASA | S67: ZEMELJSKI PLIN | T67: DALJINSKO OGREVANJE | U67: SKUPAJ RABA | V67: SKUPAJ STROŠEK (ref. cene)
D68: kWh | E68: kWh | F68: kWh | G68: kWh | H68: kWh | I68: kWh | J68: kWh | O68: kWh | P68: kWh | Q68: kWh | R68: kWh | S68: kWh | T68: kWh | U68: kWh | V68: €
B69: =B50 -> Merjeni | C69: MERITEV RABE OGREVANJE | J69: =SUM(D69:I69) -> 0 | K69: 1 | L69: 1 | M69: 1 | N69: =ROUND(PRODUCT(K69:M69),5) -> 1 | O69: =D69*$N69 -> 0 | P69: =E69*$N69 -> 0 | Q69: =F69*$N69 -> 0 | R69: =G69*$N69 -> 0 | S69: =H69*$N69 -> 0 | T69: =I69*$N69 -> 0 | U69: =SUM(O69:T69) -> 0 | V69: =O69*K$50+P69*M$50+Q69*O$50+R69*Q$50+S69*S$50+T69*U$50 -> 0
B70: =B51 -> Merjeni | C70: MERITEV RABE SANITARNA TOPLA VODA | J70: =SUM(D70:I70) -> 0 | L70: 1 | M70: 1 | N70: =ROUND(PRODUCT(L70:M70),5) -> 1 | O70: =D70*$N70 -> 0 | P70: =E70*$N70 -> 0 | Q70: =F70*$N70 -> 0 | R70: =G70*$N70 -> 0 | S70: =H70*$N70 -> 0 | T70: =I70*$N70 -> 0 | U70: =SUM(O70:T70) -> 0 | V70: =O70*K$50+P70*M$50+Q70*O$50+R70*Q$50+S70*S$50+T70*U$50 -> 0
B71: =B52 -> Normirani | C71: MERITEV RABE OSTALO - PRISILNO PREZRAČEVANJE | J71: =SUM(D71:I71) -> 0 | K71: 1 | L71: 1 | M71: 1 | N71: =ROUND(PRODUCT(K71:M71),5) -> 1 | O71: =D71*$N71 -> 0 | P71: =E71*$N71 -> 0 | Q71: =F71*$N71 -> 0 | R71: =G71*$N71 -> 0 | S71: =H71*$N71 -> 0 | T71: =I71*$N71 -> 0 | U71: =SUM(O71:T71) -> 0 | V71: =O71*K$50+P71*M$50+Q71*O$50+R71*Q$50+S71*S$50+T71*U$50 -> 0
C72: SKUPNA MERITEV RABE | J72: =SUM(D72:I72) -> 0 | K72: =N23 -> #DIV/0! | L72: 1 | M72: 1 | N72: =ROUND(PRODUCT(K72:M72),5) -> #DIV/0! | O72: =D72*$N72 -> #DIV/0! | P72: =E72*$N72 -> #DIV/0! | Q72: =F72*$N72 -> #DIV/0! | R72: =G72*$N72 -> #DIV/0! | S72: =H72*$N72 -> #DIV/0! | T72: =I72*$N72 -> #DIV/0! | U72: =SUM(O72:T72) -> #DIV/0! | V72: =O72*K$50+P72*M$50+Q72*O$50+R72*Q$50+S72*S$50+T72*U$50 -> #DIV/0!
C73: SKUPAJ VSE MERITVE | D73: =SUM(D69:D72) -> 0 | E73: =SUM(E69:E72) -> 0 | F73: =SUM(F69:F72) -> 0 | G73: =SUM(G69:G72) -> 0 | H73: =SUM(H69:H72) -> 0 | I73: =SUM(I69:I72) -> 0 | J73: =SUM(J69:J72) -> 0 | O73: =SUM(O69:O72) -> #DIV/0! | P73: =SUM(P69:P72) -> #DIV/0! | Q73: =SUM(Q69:Q72) -> #DIV/0! | R73: =SUM(R69:R72) -> #DIV/0! | S73: =SUM(S69:S72) -> #DIV/0! | T73: =SUM(T69:T72) -> #DIV/0! | U73: =SUM(U69:U72) -> #DIV/0! | V73: =SUM(V69:V72) -> #DIV/0!
B75: Način izračuna prihrankov | C75: Vrsta rabe toplote | D75: OSNOVA ZA OBRAČUN | G75: IZRAČUN DOSEGANJA PRIHRANKOV V OBRAČUNSKEM OBDOBJU | M75: SKUPAJ DEJANSKI PRIHRANKI TOPLOTA V OBRAČUNSKEM OBDOBJU | N75: RAZLIKA MED DEJANSKIM IN ZAJAMČENIM PRIHRANKOM
D76: PRILAGOJENA RABA DOVEDENE ENERGIJE | E76: PRILAGOJEN STROŠEK DOVEDENE ENERGIJE | F76: CENA DOVEDENE ENERGIJE | G76: dejanski merjeni prihranek dovedene energije | H76: dejanski normirani prihranek dovedene energije | I76: dodatni normirani prihranek toplote | J76: dejanski merjeni prihranek | K76: dejanski normirani prihranek | L76: dodatni normirani prihranek
D77: kWh | E77: € | F77: €/kWh | G77: kWh | H77: kWh | I77: kWh | J77: € | K77: € | L77: € | M77: € | N77: €
B78: =B59 -> Merjeni | C78: =C59 -> OGREVANJE | D78: =ROUND(IF(U69=0,D81-D79-D80,U69),1) -> #DIV/0! | E78: =D78*V73/U73 -> #DIV/0! | F78: =ROUND(IFERROR(E78/D78,0),5) -> 0 | G78: =G50-D78 -> #DIV/0! | J78: =ROUND(I50-E78,2) -> #DIV/0! | M78: =SUM(J78:L78) -> #DIV/0! | N78: =ROUND(M78-S59,2) -> #DIV/0!
B79: =B60 -> Merjeni | C79: =C60 -> SANITARNA TOPLA VODA | D79: =ROUND(IF(U70=0,U73*H60/H62,U70),1) -> #DIV/0! | E79: =D79*V73/U73 -> #DIV/0! | F79: =ROUND(IFERROR(E79/D79,0),5) -> 0 | G79: =G51-D79 -> #DIV/0! | J79: =ROUND(I51-E79,2) -> #DIV/0! | M79: =SUM(J79:L79) -> #DIV/0! | N79: =ROUND(M79-S60,2) -> #DIV/0!
B80: =B61 -> Normirani | C80: =C61 -> OSTALO - PRISILNO PREZRAČEVANJE | D80: =H61 -> #DIV/0! | E80: =D80*V73/U73 -> #DIV/0! | F80: =ROUND(IFERROR(E80/D80,0),5) -> 0 | H80: =N61 -> #DIV/0! | I80: =O61 -> 0 | J80: =P61 -> #DIV/0! | K80: =Q61 -> 0 | L80: =R61 -> 0 | M80: =SUM(J80:L80) -> #DIV/0! | N80: =ROUND(M80-S61,2) -> #DIV/0!
C81: SKUPAJ | D81: =U73 -> #DIV/0! | E81: =O73*K50+P73*M50+Q73*O50+R73*Q50+S73*S50+T73*U50 -> #DIV/0! | F81: =ROUND(IFERROR(E81/D81,0),5) -> 0 | G81: =SUM(G78:G80) -> #DIV/0! | H81: =SUM(H78:H80) -> #DIV/0! | I81: =SUM(I78:I80) -> 0 | J81: =SUM(J78:J80) -> #DIV/0! | K81: =SUM(K78:K80) -> 0 | L81: =SUM(L78:L80) -> 0 | M81: =SUM(M78:M80) -> #DIV/0! | N81: =SUM(N78:N80) -> #DIV/0!
A84: II. ELEKTRIKA
A86: POGODBENE REFERENCE | B86: A. POGODBENE VREDNOSTI ZA REFERENČNO OBDOBJE
B87: Metoda izračuna prihrankov | C87: Vrsta rabe elektrike | D87: Zajamčeni prihranki | E87: Referenčna raba elektrike (prilagojena) | F87: Referenčna cena elektrike | G87: Referenčni strošek elektrike | H87: Novopričakovana raba elektrike | K87: Zajamčeni prihranki
H88: novopričakovana dejanska raba elektrike | I88: nova cena elektrike | J88: nov strošek elektrike | K88: dejanski merjeni prihranek elektrike | L88: dejanski normirani prihranek elektrike | M88: dodatni normirani prihranek dovedene energije | N88: dejanski merjeni prihranek | O88: dejanski normirani prihranek | P88: dodatni normirani prihranek | Q88: Skupaj zajamčeni prihranki
E89: kWh | F89: €/kWh | G89: € | H89: kWh | I89: €/kWh | J89: € | K89: kWh | L89: kWh | M89: kWh | N89: € | O89: € | P89: € | Q89: €
B90: Normirani | C90: Razsvetljava | D90: DA | G90: =E90*F90 -> 0 | J90: =H90*I90 -> 0 | K90: 0 | L90: =IF(D90="DA",E90-H90,0) -> 0 | N90: =IF(D90="DA",H90*(F90-I90),0) -> 0 | O90: =IF(D90="DA",L90*F90,0) -> 0 | P90: =IF(D90="DA",M90*F90,0) -> 0 | Q90: =SUM(N90:P90) -> 0
B91: Merjeni | C91: Ostalo | D91: NE | G91: =E91*F90 -> 0 | J91: =H91*I90 -> 0 | K91: =IF(D91="DA",E91-H91,0) -> 0 | N91: =IF(D91="DA",G91-J91,0) -> 0 | Q91: =SUM(N91:P91) -> 0
B92: SKUPAJ | E92: =SUM(E90:E91) -> 0 | G92: =SUM(G90:G91) -> 0 | H92: 138260 | J92: =SUM(J90:J91) -> 0 | K92: =SUM(K90:K91) -> 0 | L92: =SUM(L90:L91) -> 0 | M92: =SUM(M90:M91) -> 0 | N92: =SUM(N90:N91) -> 0 | O92: =SUM(O90:O91) -> 0 | P92: =SUM(P90:P91) -> 0 | Q92: =SUM(Q90:Q91) -> 0
A94: OBRAČUNSKE REFERENCE | B94: B. IZHODIŠČNE VREDNOSTI ZA OBRAČUNSKO OBDOBJE
B95: Metoda izračuna prihrankov | C95: Vrsta rabe elektrike | D95: Korekcijski faktor za obračunsko obdobje | E95: Referenčna raba elektrike (prilagojena) | F95: Referenčna cena elektrike | G95: Referenčni strošek elektrike | H95: Novopričakovana raba elektrike | K95: Zajamčeni prihranki
H96: novopričakovana dejanska raba elektrike | I96: nova cena elektrike | J96: nov strošek elektrike | K96: dejanski merjeni prihranek elektrike | L96: dejanski normirani prihranek elektrike | M96: dodatni normirani prihranek elektrike | N96: dejanski merjeni prihranek | O96: dejanski normirani prihranek | P96: dodatni normirani prihranek | Q96: Skupaj zajamčeni prihranki
E97: kWh | F97: €/kWh | G97: € | H97: kWh | I97: €/kWh | J97: € | K97: kWh | L97: kWh | M97: kWh | N97: € | O97: € | P97: € | Q97: €
B98: Normirani | C98: Razsvetljava | D98: 1 | E98: =IF(D90="DA",D98*E90,0) -> 0 | F98: =F90 -> 0 | G98: =E98*F98 -> 0 | H98: =IF(D90="DA",ROUND(H90*D98,0),0) -> 0 | I98: =I90 -> 0 | J98: =H98*I98 -> 0 | K98: 0 | L98: =E98-H98 -> 0 | M98: =M90*D98 -> 0 | N98: =H98*(F98-I98) -> 0 | O98: =L98*F98 -> 0 | P98: =M98*F98 -> 0 | Q98: =SUM(N98:P98) -> 0
B99: Merjeni | C99: Ostalo | D99: 1 | E99: =IF(D91="DA",D99*E91,0) -> 0 | G99: =E99*F98 -> 0 | H99: =IF(D91="DA",ROUND(H91*D99,0),0) -> 0 | J99: =H99*I98 -> 0 | K99: =E99-H99 -> 0 | N99: =G99-J99 -> 0 | Q99: =SUM(N99:P99) -> 0
B100: SKUPAJ | E100: =SUM(E98:E99) -> 0 | G100: =SUM(G98:G99) -> 0 | H100: =SUM(H98:H99) -> 0 | J100: =SUM(J98:J99) -> 0 | K100: =SUM(K98:K99) -> 0 | L100: =SUM(L98:L99) -> 0 | M100: =SUM(M98:M99) -> 0 | N100: =SUM(N98:N99) -> 0 | O100: =SUM(O98:O99) -> 0 | P100: =SUM(P98:P99) -> 0 | Q100: =SUM(Q98:Q99) -> 0
A102: OBRAČUNSKE VREDNOSTI | B102: C. OBRAČUN V OBRAČUNSKEM OBDOBJU
B103: Metoda izračuna prihrankov | C103: Vrsta rabe elektrike | D103: Zajamčeni prihranki | E103: DEJANSKA NEPRILAGOJENA RABA ELEKTRIKE | I103: PRILAGODITEV RABE | L103: OSNOVA ZA OBRAČUN | N103: IZRAČUN DOSEGANJA PRIHRANKOV V OBRAČUNSKEM OBDOBJU | T103: SKUPAJ DEJANSKI PRIHRANKI ELEKTRIKE V OBRAČUNSKEM OBDOBJU | U103: RAZLIKA MED DEJANSKIM IN ZAJAMČENIM PRIHRANKOM
E104: skupaj merilna mesta | F104: porabniki, ki niso raba objekta | G104: SKUPAJ NEPRILAGOJENA RABA | H104: nova cena elektrike | I104: Faktor prilagoditve rabe | J104: SKUPAJ PRILAGOJENA RABA ELEKTRIKE | K104: SKUPAJ STROŠEK | L104: PRILAGOJENA RABA ELEKTRIKE | M104: PRILAGOJEN STROŠEK ELEKTRIKE | N104: dejanski merjeni prihranek elektrike | O104: dejanski normirani prihranek elektrike | P104: dodatni normirani prihranek elektrike | Q104: dejanski merjeni prihranek | R104: dejanski normirani prihranek | S104: dodatni normirani prihranek
E105: kWh | F105: kWh | G105: kWh | H105: €/kWh | J105: kWh | K105: € | L105: kWh | M105: € | N105: kWh | O105: kWh | P105: kWh | Q105: € | R105: € | S105: € | T105: € | U105: €
B106: Normirani | C106: Razsvetljava | D106: =D90 -> DA | G106: =E106-F106 -> 0 | H106: =I98 -> 0 | I106: 1 | J106: =G106*I106 -> 0 | K106: =J106*H106 -> 0 | L106: =H98 -> 0 | M106: =L106*H106 -> 0 | N106: 0 | O106: =IF(D106="DA",L98,0) -> 0 | P106: =IF(D106="DA",M98,0) -> 0 | Q106: =IF(D106="DA",L106*(F98-H106),0) -> 0 | R106: =O106*F98 -> 0 | S106: =P106*F98 -> 0 | T106: =SUM(Q106:S106) -> 0 | U106: =T106-Q98 -> 0
B107: Merjeni | C107: Ostalo | D107: =D91 -> NE | L107: =J106-L106 -> 0 | M107: =L107*H106 -> 0 | N107: =IF(D107="DA",E99-L107,0) -> 0 | Q107: =IF(D107="DA",G99-M107,0) -> 0 | T107: =SUM(Q107:S107) -> 0 | U107: =T107-Q99 -> 0
B108: SKUPAJ | L108: =SUM(L106:L107) -> 0 | M108: =SUM(M106:M107) -> 0 | N108: =SUM(N106:N107) -> 0 | O108: =SUM(O106:O107) -> 0 | P108: =SUM(P106:P107) -> 0 | Q108: =SUM(Q106:Q107) -> 0 | R108: =SUM(R106:R107) -> 0 | S108: =SUM(S106:S107) -> 0 | ... U108: =SUM(U106:U107) -> 0
A111: III. VZDRŽEVANJE
A114: POGODBENE REFERENCE | B114: A. POGODBENE VREDNOSTI ZA REFERENČNO OBDOBJE | G114: OBRAČUNSKE REFERENCE | H114: B. IZHODIŠČNE VREDNOSTI ZA OBRAČUNSKO OBDOBJE | N114: OBRAČUNSKE VREDNOSTI | O114: C. OBRAČUN V OBRAČUNSKEM OBDOBJU
B115: Vrsta stroška | C115: Referenčni strošek vzdrževanja | D115: novi strošek vzdrževanja | E115: zajamčeni prihranek vzdrževanja | H115: Vrsta stroška | I115: Korekcijski faktor za obračunsko obdobje | J115: Referenčni strošek vzdrževanja | K115: novi strošek vzdrževanja | L115: zajamčeni prihranek vzdrževanja | O115: Vrsta stroška | P115: Referenčni strošek vzdrževanja | Q115: novi strošek vzdrževanja | R115: doseženi prihranek vzdrževanja
C116: € | D116: € | E116: € | J116: € | K116: € | L116: € | P116: € | Q116: € | R116: €
B117: Vzdrževanje | D117: 0 | E117: =C117-D117 -> 0 | H117: Vzdrževanje | I117: 1 | J117: =C117*I117 -> 0 | K117: 0 | L117: =J117-K117 -> 0 | O117: Vzdrževanje | P117: =J117 -> 0 | R117: =P117-Q117 -> 0
B118: SKUPAJ | C118: =SUM(C117:C117) -> 0 | D118: =SUM(D117:D117) -> 0 | E118: =SUM(E117:E117) -> 0 | H118: SKUPAJ | J118: =SUM(J117:J117) -> 0 | K118: =SUM(K117:K117) -> 0 | L118: =SUM(L117:L117) -> 0 | O118: SKUPAJ | P118: =SUM(P117:P117) -> 0 | Q118: =SUM(Q117:Q117) -> 0 | R118: =SUM(R117:R117) -> 0
